Workbook
Name AMBIENTAL: #REF!
Name CLP_2025: 'Dados 2025'!$A$3:$JA$421
Name DADOS_2025: #REF!
Name GOVERNANÇA: #REF!
Name INDICE_INDICADOR: Matriz!$K$2:$K$80
Name MUNICIPIO: #REF!
Name NOME_INDICADOR: Matriz!$D$2:$D$80
Name NOTA_INDICADOR: #REF!
Name ODS_1: #REF!
Name ODS_10: #REF!
Name ODS_11: #REF!
Name ODS_12: #REF!
Name ODS_13: #REF!
Name ODS_14: #REF!
Name ODS_15: #REF!
Name ODS_16: #REF!
Name ODS_17: #REF!
Name ODS_2: #REF!
Name ODS_3: #REF!
Name ODS_4: #REF!
Name ODS_5: #REF!
Name ODS_6: #REF!
Name ODS_7: #REF!
Name ODS_8: #REF!
Name ODS_9: #REF!
Name SOCIAL: #REF!

Sheet Matriz
B2: Dimensão | C2: Pilar | D2: Indicador | E2: Descrição do indicador | F2: Classificação | K2: ÍNDICE DO INDICADOR
F3: ODS | G3: ESG | H3: Metas ODS
B4: Instituições | C4: Sustentabilidade Fiscal | D4: Dependência fiscal | E4: Razão entre as transferências correntes realizadas e a receita corrente total da administração pública municipal | F4: sixteen, seventeen | G4: G | H4: 16.6 | 17.1 | K4: =SUMIFS('Dados 2025'!$B$1:$JA$1,'Dados 2025'!$B$2:$JA$2,Matriz!D4) -> 2
B5: Instituições | C5: Sustentabilidade Fiscal | D5: Taxa de investimento | E5: Razão entre os investimentos liquidados e a receita corrente líquida da administração pública municipal | F5: ten, seventeen | G5: G | H5: 10.b | 17.1 | 17.3 | K5: =SUMIFS('Dados 2025'!$B$1:$JA$1,'Dados 2025'!$B$2:$JA$2,Matriz!D5) -> 6
B6: Instituições | C6: Sustentabilidade Fiscal | D6: Despesa com pessoal | E6: Razão entre a despesa total com pessoal e a receita corrente líquida ajustada da administração pública municipal | F6: onze, sixteen, seventeen | G6: G | H6: 11.a | 16.6| 17.3 | K6: =SUMIFS('Dados 2025'!$B$1:$JA$1,'Dados 2025'!$B$2:$JA$2,Matriz!D6) -> 10
B7: Instituições | C7: Sustentabilidade Fiscal | D7: Endividamento | E7: Razão entre a dívida consolidada líquida e a receita corrente líquida da administração pública municipal | F7: onze, sixteen, seventeen | G7: G | H7: 11.a |16.6|17.1 | K7: =SUMIFS('Dados 2025'!$B$1:$JA$1,'Dados 2025'!$B$2:$JA$2,Matriz!D7) -> 14
B9: Instituições | C9: Funcionamento da máquina pública | D9: Custo da função administrativa | E9: Razão entre o custo da função administrativa do poder executivo e a receita corrente líquida da administração pública municipal | F9: onze, sixteen, seventeen | G9: G | H9: 11.a | 16.6 | 17.4 | K9: =SUMIFS('Dados 2025'!$B$1:$JA$1,'Dados 2025'!$B$2:$JA$2,Matriz!D9) -> 18
B10: Instituições | C10: Funcionamento da máquina pública | D10: Custo da função legislativa | E10: Razão entre o custo da função legislativa e a receita corrente líquida da administração pública municipal | F10: onze, sixteen, seventeen | G10: G | H10: 11.a | 16.6 | 17.5 | K10: =SUMIFS('Dados 2025'!$B$1:$JA$1,'Dados 2025'!$B$2:$JA$2,Matriz!D10) -> 22
B11: Instituições | C11: Funcionamento da máquina pública | D11: Qualidade da informação contábil e fiscal | E11: Nota geral do município no ranking da qualidade da informação contábil e fiscal dos municípios no Siconfi | F11: sixteen | G11: G | H11: 16.10 | K11: =SUMIFS('Dados 2025'!$B$1:$JA$1,'Dados 2025'!$B$2:$JA$2,Matriz!D11) -> 26
B12: Instituições | C12: Funcionamento da máquina pública | D12: Tempo para abertura de empresas | E12: Tempo médio para abertura de empresas levando-se em consideração o tempo na etapa de viabilidade e o tempo na etapa de registro | F12: oito, nove | G12: G | H12: 8.3 | 9.3 | K12: =SUMIFS('Dados 2025'!$B$1:$JA$1,'Dados 2025'!$B$2:$JA$2,Matriz!D12) -> 30
B13: Instituições | C13: Funcionamento da máquina pública | D13: Qualificação do servidor | E13: Razão entre o número de servidores públicos municipais da administração direta com ensino superior e o número total servidores públicos municipais da administração direta | F13: quatro, sixteen | G13: SG | H13: 4.b | 16.7 | K13: =SUMIFS('Dados 2025'!$B$1:$JA$1,'Dados 2025'!$B$2:$JA$2,Matriz!D13) -> 34
B14: Instituições | C14: Funcionamento da máquina pública | D14: Transparência municipal | E14: Nota na Escala Brasil Transparente 360º da administração pública municipal, abrangendo as notas em transparência passiva e transparência ativa | F14: onze, sixteen | G14: G | H14: 11.a | 16.10 | K14: =SUMIFS('Dados 2025'!$B$1:$JA$1,'Dados 2025'!$B$2:$JA$2,Matriz!D14) -> 38
B16: Sociedade | C16: Acesso à saúde | D16: Cobertura da atenção primária | E16: Razão entre a população cadastrada por equipes da Estratégia de Saúde da Família (eSF) e da Atenção Primária (eAP) financiadas pelo Ministério da Saúde no município e a população do município | F16: três | G16: SG | H16: 3.7 | 3.8 | K16: =SUMIFS('Dados 2025'!$B$1:$JA$1,'Dados 2025'!$B$2:$JA$2,Matriz!D16) -> 42
B17: Sociedade | C17: Acesso à saúde | D17: Cobertura de saúde suplementar | E17: Razão entre a população do município beneficiária de plano de saúde privado e a população total do município | F17: três | G17: S | H17: 3.8 | K17: =SUMIFS('Dados 2025'!$B$1:$JA$1,'Dados 2025'!$B$2:$JA$2,Matriz!D17) -> 46
... B80: Economia | C80: Telecomunicações | D80: Acessos de banda larga - Alta velocidade | E80: Razão entre o número de acessos de conexão banda larga com faixa de velocidade superior a 34 megabytes e o número de acessos de conexão banda larga | F80: um, cinco, nove | G80: SG | H80: 1.4 | 5.b | 9.c | K80: =SUMIFS('Dados 2025'!$B$1:$JA$1,'Dados 2025'!$B$2:$JA$2,Matriz!D80) -> 258

Sheet Dados 2025
A1: 1 | B1: 2 | C1: 3 | D1: 4 | E1: 5 | F1: 6 | G1: 7 | H1: 8 | I1: 9 | J1: 10 | K1: 11 | L1: 12 | M1: 13 | N1: 14 | O1: 15 | P1: 16 | Q1: 17 | R1: 18 | S1: 19 | T1: 20 | U1: 21 | V1: 22 | W1: 23 | X1: 24 | Y1: 25 | Z1: 26 | AA1: 27 | AB1: 28 | AC1: 29 | AD1: 30 | AE1: 31 | AF1: 32 | AG1: 33 | AH1: 34 | AI1: 35 | AJ1: 36 | AK1: 37 | AL1: 38 | AM1: 39 | AN1: 40 | AO1: 41 | AP1: 42 | AQ1: 43 | AR1: 44 | AS1: 45 | AT1: 46 | AU1: 47 | AV1: 48 | AW1: 49 | AX1: 50 | AY1: 51 | AZ1: 52 | BA1: 53 | BB1: 54 | BC1: 55 | BD1: 56 | BE1: 57 | BF1: 58 | BG1: 59 | BH1: 60 | BI1: 61 | BJ1: 62 | BK1: 63 | BL1: 64 | BM1: 65 | BN1: 66 | BO1: 67 | BP1: 68 | BQ1: 69 | BR1: 70 | BS1: 71 | BT1: 72 | BU1: 73 | BV1: 74 | BW1: 75 | BX1: 76 | BY1: 77 | BZ1: 78 | CA1: 79 | CB1: 80 | CC1: 81 | CD1: 82 | CE1: 83 | CF1: 84 | CG1: 85 | CH1: 86 | CI1: 87 | CJ1: 88 | CK1: 89 | CL1: 90 | CM1: 91 | CN1: 92 | CO1: 93 | CP1: 94 | CQ1: 95 | CR1: 96 | CS1: 97 | CT1: 98 | CU1: 99 | CV1: 100 | CW1: 101 | CX1: 102 | CY1: 103 | CZ1: 104 | DA1: 105 | DB1: 106 | DC1: 107 | DD1: 108 | DE1: 109 | DF1: 110 | DG1: 111 | DH1: 112 | DI1: 113 | DJ1: 114 | DK1: 115 | DL1: 116 | DM1: 117 | DN1: 118 | DO1: 119 | DP1: 120 | DQ1: 121 | DR1: 122 | DS1: 123 | DT1: 124 | DU1: 125 | DV1: 126 | DW1: 127 | DX1: 128 | DY1: 129 | DZ1: 130 | EA1: 131 | EB1: 132 | EC1: 133 | ED1: 134 | EE1: 135 | EF1: 136 | EG1: 137 | EH1: 138 | EI1: 139 | EJ1: 140 | EK1: 141 | EL1: 142 | EM1: 143 | EN1: 144 | EO1: 145 | EP1: 146 | EQ1: 147 | ER1: 148 | ES1: 149 | ET1: 150 | EU1: 151 | EV1: 152 | EW1: 153 | EX1: 154 | EY1: 155 | EZ1: 156 | FA1: 157 | FB1: 158 | FC1: 159 | FD1: 160 | FE1: 161 | FF1: 162 | FG1: 163 | FH1: 164 | FI1: 165 | FJ1: 166 | FK1: 167 | FL1: 168 | FM1: 169 | FN1: 170 | FO1: 171 | FP1: 172 | FQ1: 173 | FR1: 174 | FS1: 175 | FT1: 176 | FU1: 177 | FV1: 178 | FW1: 179 | FX1: 180 | FY1: 181 | FZ1: 182 | GA1: 183 | GB1: 184 | GC1: 185 | GD1: 186 | GE1: 187 | GF1: 188 | GG1: 189 | GH1: 190 | GI1: 191 | GJ1: 192 | GK1: 193 | GL1: 194 | GM1: 195 | GN1: 196 | GO1: 197 | GP1: 198 | GQ1: 199 | GR1: 200 | GS1: 201 | GT1: 202 | GU1: 203 | GV1: 204 | GW1: 205 | GX1: 206 | GY1: 207 | GZ1: 208 | HA1: 209 | HB1: 210 | HC1: 211 | HD1: 212 | HE1: 213 | HF1: 214 | HG1: 215 | HH1: 216 | HI1: 217 | HJ1: 218 | HK1: 219 | HL1: 220 | HM1: 221 | HN1: 222 | HO1: 223 | HP1: 224 | HQ1: 225 | HR1: 226 | HS1: 227 | HT1: 228 | HU1: 229 | HV1: 230 | HW1: 231 | HX1: 232 | HY1: 233 | HZ1: 234 | IA1: 235 | IB1: 236 | IC1: 237 | ID1: 238 | IE1: 239 | IF1: 240 | IG1: 241 | IH1: 242 | II1: 243 | IJ1: 244 | IK1: 245 | IL1: 246 | IM1: 247 | IN1: 248 | IO1: 249 | IP1: 250 | IQ1: 251 | IR1: 252 | IS1: 253 | IT1: 254 | IU1: 255 | IV1: 256 | IW1: 257 | IX1: 258 | IY1: 259 | IZ1: 260 | JA1: 261
B2: Dependência fiscal | F2: Taxa de investimento | J2: Despesa com pessoal | N2: Endividamento | R2: Custo da função administrativa | V2: Custo da função legislativa | Z2: Qualidade da informação contábil e fiscal | AD2: Tempo para abertura de empresas | AH2: Qualificação do servidor | AL2: Transparência municipal | AP2: Cobertura da atenção primária | AT2: Cobertura de saúde suplementar | AX2: Cobertura vacinal | BB2: Atendimento pré-natal | BF2: Mortalidade materna | BJ2: Desnutrição na infância | BN2: Obesidade na infância | BR2: Mortalidade na infância | BV2: Mortalidade por causas evitáveis | BZ2: Taxa de atendimento - Educação infantil | CD2: Taxa líquida de matrícula - Ensino fundamental | CH2: Taxa líquida de matrícula - Ensino médio | CL2: Alunos em tempo integral - Educação infantil | CP2: Alunos em tempo integral - Ensino fundamental | CT2: Alunos em tempo integral - Ensino médio | CX2: IDEB - Ensino fundamental anos iniciais | DB2: IDEB - Ensino fundamental anos finais | DF2: IDEB - Ensino médio | DJ2: ENEM | DN2: Mortes violentas intencionais | DR2: Mortes por causas indeterminadas | DV2: Mortalidade de jovens por razões de segurança | DZ2: Mortalidade nos transportes | ED2: Morbidade hospitalar por acidentes nos transportes | EH2: Cobertura do abastecimento de água | EL2: Perdas na distribuição de água | EP2: Perdas no faturamento de água | ET2: Cobertura da coleta de esgoto | EX2: Cobertura do tratamento de esgoto | FB2: Cobertura da coleta de resíduos domésticos | FF2: Destinação do lixo | FJ2: Emissões de gases de efeito estufa | FN2: Cobertura de floresta natural | FR2: Desmatamento ilegal | FV2: Velocidade do desmatamento ilegal | FZ2: Áreas recuperadas | GD2: População vulnerável | GH2: Formalidade no mercado de trabalho | GL2: Crescimento dos empregos formais | GP2: Recursos para pesquisa e desenvolvimento científico | GT2: Empregos no setor criativo | GX2: Crédito per capita | HB2: PIB per capita | HF2: Crescimento do PIB per capita | HJ2: Complexidade econômica | HN2: Renda média do trabalho formal | HR2: Crescimento da renda média do trabalho formal | HV2: Taxa bruta de matrícula - Ensino técnico e profissionalizante | HZ2: Taxa bruta de matrícula - Ensino superior | ID2: Qualificação dos trabalhadores em emprego formal | IH2: Acessos de telefonia móvel | IL2: Acessos de telefonia móvel - 4G | IP2: Acessos de banda larga | IT2: Acessos de banda larga - Fibra ótica | IX2: Acessos de banda larga - Alta velocidade
A3: Município | B3: Dados brutos | C3: Nota normalizada | D3: Colocação | E3: Delta colocação | F3: Dados brutos | G3: Nota normalizada | H3: Colocação | I3: Delta colocação | J3: Dados brutos | K3: Nota normalizada | L3: Colocação | M3: Delta colocação | N3: Dados brutos | O3: Nota normalizada | P3: Colocação | Q3: Delta colocação | R3: Dados brutos | S3: Nota normalizada | T3: Colocação | U3: Delta colocação | V3: Dados brutos | W3: Nota normalizada | X3: Colocação | Y3: Delta colocação | Z3: Dados brutos | AA3: Nota normalizada | AB3: Colocação | AC3: Delta colocação | AD3: Dados brutos | AE3: Nota normalizada | AF3: Colocação | AG3: Delta colocação | AH3: Dados brutos | AI3: Nota normalizada | AJ3: Colocação | AK3: Delta colocação | AL3: Dados brutos | AM3: Nota normalizada | AN3: Colocação | AO3: Delta colocação | AP3: Dados brutos | AQ3: Nota normalizada | AR3: Colocação | AS3: Delta colocação | AT3: Dados brutos | AU3: Nota normalizada | AV3: Colocação | AW3: Delta colocação | AX3: Dados brutos | AY3: Nota normalizada | AZ3: Colocação | BA3: Delta colocação | BB3: Dados brutos | BC3: Nota normalizada | BD3: Colocação | BE3: Delta colocação | BF3: Dados brutos | BG3: Nota normalizada | BH3: Colocação | BI3: Delta colocação | BJ3: Dados brutos | BK3: Nota normalizada | BL3: Colocação | BM3: Delta colocação | BN3: Dados brutos | BO3: Nota normalizada | BP3: Colocação | BQ3: Delta colocação | BR3: Dados brutos | BS3: Nota normalizada | BT3: Colocação | BU3: Delta colocação | BV3: Dados brutos | BW3: Nota normalizada | BX3: Colocação | BY3: Delta colocação | BZ3: Dados brutos | CA3: Nota normalizada | CB3: Colocação | CC3: Delta colocação | CD3: Dados brutos | CE3: Nota normalizada | CF3: Colocação | CG3: Delta colocação | CH3: Dados brutos | CI3: Nota normalizada | CJ3: Colocação | CK3: Delta colocação | CL3: Dados brutos | CM3: Nota normalizada | CN3: Colocação | CO3: Delta colocação | CP3: Dados brutos | CQ3: Nota normalizada | CR3: Colocação | CS3: Delta colocação | CT3: Dados brutos | CU3: Nota normalizada | CV3: Colocação | CW3: Delta colocação | CX3: Dados brutos | CY3: Nota normalizada | CZ3: Colocação | DA3: Delta colocação | DB3: Dados brutos | DC3: Nota normalizada | DD3: Colocação | DE3: Delta colocação | DF3: Dados brutos | DG3: Nota normalizada | DH3: Colocação | DI3: Delta colocação | DJ3: Dados brutos | DK3: Nota normalizada | DL3: Colocação | DM3: Delta colocação | DN3: Dados brutos | DO3: Nota normalizada | DP3: Colocação | DQ3: Delta colocação | DR3: Dados brutos | DS3: Nota normalizada | DT3: Colocação | DU3: Delta colocação | DV3: Dados brutos | DW3: Nota normalizada | DX3: Colocação | DY3: Delta colocação | DZ3: Dados brutos | EA3: Nota normalizada | EB3: Colocação | EC3: Delta colocação | ED3: Dados brutos | EE3: Nota normalizada | EF3: Colocação | EG3: Delta colocação | EH3: Dados brutos | EI3: Nota normalizada | EJ3: Colocação | EK3: Delta colocação | EL3: Dados brutos | EM3: Nota normalizada | EN3: Colocação | EO3: Delta colocação | EP3: Dados brutos | EQ3: Nota normalizada | ER3: Colocação | ES3: Delta colocação | ET3: Dados brutos | EU3: Nota normalizada | EV3: Colocação | EW3: Delta colocação | EX3: Dados brutos | EY3: Nota normalizada | EZ3: Colocação | FA3: Delta colocação | FB3: Dados brutos | FC3: Nota normalizada | FD3: Colocação | FE3: Delta colocação | FF3: Dados brutos | FG3: Nota normalizada | FH3: Colocação | FI3: Delta colocação | FJ3: Dados brutos | FK3: Nota normalizada | FL3: Colocação | FM3: Delta colocação | FN3: Dados brutos | FO3: Nota normalizada | FP3: Colocação | FQ3: Delta colocação | FR3: Dados brutos | FS3: Nota normalizada | FT3: Colocação | FU3: Delta colocação | FV3: Dados brutos | FW3: Nota normalizada | FX3: Colocação | FY3: Delta colocação | FZ3: Dados brutos | GA3: Nota normalizada | GB3: Colocação | GC3: Delta colocação | GD3: Dados brutos | GE3: Nota normalizada | GF3: Colocação | GG3: Delta colocação | GH3: Dados brutos | GI3: Nota normalizada | GJ3: Colocação | GK3: Delta colocação | GL3: Dados brutos | GM3: Nota normalizada | GN3: Colocação | GO3: Delta colocação | GP3: Dados brutos | GQ3: Nota normalizada | GR3: Colocação | GS3: Delta colocação | GT3: Dados brutos | GU3: Nota normalizada | GV3: Colocação | GW3: Delta colocação | GX3: Dados brutos | GY3: Nota normalizada | GZ3: Colocação | HA3: Delta colocação | HB3: Dados brutos | HC3: Nota normalizada | HD3: Colocação | HE3: Delta colocação | HF3: Dados brutos | HG3: Nota normalizada | HH3: Colocação | HI3: Delta colocação | HJ3: Dados brutos | HK3: Nota normalizada | HL3: Colocação | HM3: Delta colocação | HN3: Dados brutos | HO3: Nota normalizada | HP3: Colocação | HQ3: Delta colocação | HR3: Dados brutos | HS3: Nota normalizada | HT3: Colocação | HU3: Delta colocação | HV3: Dados brutos | HW3: Nota normalizada | HX3: Colocação | HY3: Delta colocação | HZ3: Dados brutos | IA3: Nota normalizada | IB3: Colocação | IC3: Delta colocação | ID3: Dados brutos | IE3: Nota normalizada | IF3: Colocação | IG3: Delta colocação | IH3: Dados brutos | II3: Nota normalizada | IJ3: Colocação | IK3: Delta colocação | IL3: Dados brutos | IM3: Nota normalizada | IN3: Colocação | IO3: Delta colocação | IP3: Dados brutos | IQ3: Nota normalizada | IR3: Colocação | IS3: Delta colocação | IT3: Dados brutos | IU3: Nota normalizada | IV3: Colocação | IW3: Delta colocação | IX3: Dados brutos | IY3: Nota normalizada | IZ3: Colocação | JA3: Delta colocação
A4: Ariquemes | B4: 0.6880761 | C4: 35.998906 | D4: 237 | E4: -67 | F4: 0.0599727 | G4: 16.903363 | H4: 285 | I4: 96 | J4: 0.5261 | K4: 39.698582 | L4: 345 | M4: -48 | N4: -0.1326 | O4: 34.968139 | P4: 74 | Q4: 5 | R4: 0.0980484 | S4: 77.351041 | T4: 209 | U4: 12 | V4: 0.0263238 | W4: 67.182212 | X4: 276 | Y4: -28 | Z4: 0.89842342 | AA4: 88.256087 | AB4: 157 | AC4: -109 | AD4: 16 | AE4: 91.632534 | AF4: 157 | AG4: 3 | AH4: 0.372085 | AI4: 39.99831 | AJ4: 346 | AK4: -129 | AL4: 6.05 | AM4: 46.331522 | AN4: 270 | AO4: -8 | AP4: 0.6867 | AQ4: 29.068901 | AR4: 320 | AS4: -118 | AT4: 0.071445 | AU4: 10.032755 | AV4: 377 | AW4: -2 | AX4: 0.9693364 | AY4: 69.119182 | AZ4: 53 | BA4: 94 | BB4: 0.7861386 | BC4: 73.232656 | BD4: 209 | BE4: -42 | BF4: 0 | BG4: 100 | BH4: 1 | BI4: 269 | BJ4: 0.0292 | BK4: 73.367876 | BL4: 326 | BM4: -118 | BN4: 0.044 | BO4: 80.48 | BP4: 148 | BQ4: 41 | BR4: 16.50165 | BS4: 62.16258 | BT4: 316 | BU4: 80 | BV4: 169.09526 | BW4: 59.226348 | BX4: 232 | BY4: 93 | BZ4: 0.4616196 | CA4: 23.150621 | CB4: 314 | CC4: -17 | CD4: 0.8713184 | CE4: 39.763045 | CF4: 382 | CG4: -92 | CH4: 0.7954464 | CI4: 42.04083 | CJ4: 183 | CK4: -35 | CL4: 0.1677236 | CM4: 19.421562 | CN4: 281 | CO4: -18 | CP4: 0.0783905 | CQ4: 8.1672703 | CR4: 232 | CS4: 157 | CT4: 0.2449207 | CU4: 27.990945 | CV4: 135 | CW4: -37 | CX4: 5.4 | CY4: 28.813559 | CZ4: 299 | DA4: 62 | DB4: 4.8 | DC4: 39.215686 | DD4: 220 | DE4: -21 | DF4: 4.2 | DG4: 64.285714 | DH4: 217 | DI4: 42 | DJ4: 528.485 | DK4: 41.05959 | DL4: 322 | DM4: -11 | DN4: 21.68682 | DO4: 79.948591 | DP4: 218 | DQ4: 31 | DR4: 0 | DS4: 100 | DT4: 1 | DU4: 93 | DV4: 86.78403 | DW4: 73.436 | DX4: 272 | DY4: -71 | DZ4: 33.046585 | EA4: 74.432957 | EB4: 363 | EC4: -32 | ED4: 13.81559 | EE4: 85.021205 | EF4: 244 | EG4: 106 | EH4: 0.847 | EI4: 83.411038 | EJ4: 303 | EK4: -22 | EL4: 0.2008 | EM4: 80.62954 | EN4: 52 | EO4: 159 | EP4: 0.2163 | EQ4: 50.256509 | ER4: 82 | ES4: 80 | ET4: 0.1915 | EU4: 18.78453 | EV4: 333 | EW4: 33 | EX4: 0.0176 | EY4: 0.92393301 | EZ4: 360 | FA4: -12 | FB4: 0.8095 | FC4: 71.219217 | FD4: 368 | FE4: -11 | FF4: 0 | FG4: 100 | FH4: 1 | FI4: 0 | FJ4: 0.7726679 | FK4: 82.057061 | FL4: 406 | FM4: -14 | FN4: 0.3013645 | FO4: 32.856591 | FP4: 186 | FQ4: -25 | FR4: 0.0005712 | FS4: 97.03208 | FT4: 338 | FU4: 8 | FV4: 0.0329863 | FW4: 96.018475 | FX4: 365 | FY4: -13 | FZ4: 9.99e-05 | GA4: 0.68188799 | GB4: 377 | GC4: -142 | GD4: 0.4158953 | GE4: 53.611447 | GF4: 234 | GG4: 4 | GH4: 0.2907737 | GI4: 22.338512 | GJ4: 261 | GK4: -20 | GL4: 0.031575 | GM4: 26.702986 | GN4: 293 | GO4: -242 | GP4: 0.0322364 | GQ4: 0.020276276 | GR4: 229 | GS4: -4 | GT4: 0.0089918 | GU4: 6.5746213 | GV4: 236 | GW4: 37 | GX4: 25923.08 | GY4: 17.117915 | GZ4: 47 | HA4: -4 | HB4: 28878.26 | HC4: 5.9473317 | HD4: 266 | HE4: -10 | HF4: 0.1226348 | HG4: 11.359568 | HH4: 226 | HI4: -6 | HJ4: 0.9846252 | HK4: 31.026363 | HL4: 367 | HM4: -35 | HN4: 2635.9876 | HO4: 26.540191 | HP4: 256 | HQ4: 16 | HR4: -0.0329664 | HS4: 57.666724 | HT4: 130 | HU4: 4 | HV4: 0.0580698 | HW4: 13.131087 | HX4: 304 | HY4: 17 | HZ4: 0.6772842 | IA4: 24.679441 | IB4: 152 | IC4: 5 | ID4: 0.1334242 | IE4: 21.222198 | IF4: 372 | IG4: -54 | IH4: 92.90892 | II4: 39.796182 | IJ4: 337 | IK4: -122 | IL4: 0.7820647 | IM4: 57.264393 | IN4: 127 | IO4: 109 | IP4: 28.73919 | IQ4: 42.313568 | IR4: 190 | IS4: 4 | IT4: 0.9231484 | IU4: 91.154165 | IV4: 202 | IW4: -12 | IX4: 0.5932122 | IY4: 23.186659 | IZ4: 415 | JA4: -18
A5: Cacoal | B5: 0.6524333 | C5: 41.455305 | D5: 190 | E5: 0 | F5: 0.0950962 | G5: 27.823165 | H5: 176 | I5: -13 | J5: 0.4918 | K5: 45.780142 | L5: 271 | M5: 38 | N5: -0.1024 | O5: 34.247393 | P5: 87 | Q5: 45 | R5: 0.157894 | S5: 58.97799 | T5: 333 | U5: 4 | V5: 0.0324494 | W5: 58.727744 | X5: 363 | Y5: -34 | Z5: 0.94763514 | AA5: 93.977481 | AB5: 49 | AC5: -5 | AD5: 14.2 | AE5: 92.685781 | AF5: 131 | AG5: -19 | AH5: 0.4688975 | AI5: 50.647879 | AJ5: 253 | AK5: -24 | AL5: 9.47 | AM5: 92.798913 | AN5: 42 | AO5: 0 | AP5: 0.9767 | AQ5: 47.070143 | AR5: 141 | AS5: -29 | AT5: 0.0976986 | AU5: 14.120843 | AV5: 350 | AW5: -15 | AX5: 0.9437 | AY5: 65.91084 | AZ5: 81 | BA5: 64 | BB5: 0.8227848 | BC5: 78.714021 | BD5: 146 | BE5: -79 | BF5: 0 | BG5: 100 | BH5: 1 | BI5: 0 | BJ5: 0.0201 | BK5: 82.797927 | BL5: 224 | BM5: 25 | BN5: 0.0427 | BO5: 81.173333 | BP5: 134 | BQ5: 57 | BR5: 8.93522 | BS5: 86.066717 | BT5: 42 | BU5: 23 | BV5: 168.37283 | BW5: 59.592504 | BX5: 227 | BY5: -136 | BZ5: 0.4219717 | CA5: 18.246612 | CB5: 353 | CC5: -29 | CD5: 0.9227441 | CE5: 49.374046 | CF5: 316 | CG5: -142 | CH5: 1.013594 | CI5: 61.551509 | CJ5: 41 | CK5: -10 | CL5: 0.0425712 | CM5: 4.9295341 | CN5: 392 | CO5: -1 | CP5: 0.07693 | CQ5: 8.0004487 | CR5: 233 | CS5: 27 | CT5: 0.2888125 | CU5: 33.081635 | CV5: 100 | CW5: -35 | CX5: 5.7 | CY5: 33.898305 | CZ5: 238 | DA5: -47 | DB5: 4.9 | DC5: 41.176471 | DD5: 184 | DE5: -21 | DF5: 4.2 | DG5: 64.285714 | DH5: 217 | DI5: -16 | DJ5: 524.4731 | DK5: 38.519181 | DL5: 343 | DM5: -12 | DN5: 20.71656 | DO5: 80.879656 | DP5: 209 | DQ5: -64 | DR5: 0.1818182 | DS5: 80.519478 | DT5: 243 | DU5: -89 | DV5: 99.61105 | DW5: 69.234287 | DX5: 303 | DY5: 38 | DZ5: 77.111649 | EA5: 39.914204 | EB5: 415 | EC5: -12 | ED5: 2.662925 | EE5: 97.181255 | EF5: 61 | EG5: 116 | EH5: 0.7881 | EI5: 77.024829 | EJ5: 335 | EK5: -16 | EL5: 0.2554 | EM5: 75.121065 | EN5: 97 | EO5: 229 | EP5: 0.3122 | EQ5: 44.106708 | ER5: 153 | ES5: 151 | ET5: 0.5674 | EU5: 56.54445 | EV5: 240 | EW5: -19 | EX5: 0.4719 | EY5: 24.772954 | EZ5: 194 | FA5: 5 | FB5: 0.7881 | FC5: 67.986101 | FD5: 377 | FE5: 0 | FF5: 0 | FG5: 100 | FH5: 1 | FI5: 0 | FJ5: 0.4671544 | FK5: 84.773939 | FL5: 396 | FM5: -14 | FN5: 0.3602168 | FO5: 39.273027 | FP5: 156 | FQ5: -26 | FR5: 0.0003371 | FS5: 98.248449 | FT5: 318 | FU5: 9 | FV5: 0.0112992 | FW5: 98.63616 | FX5: 295 | FY5: 27 | FZ5: 1.36e-05 | GA5: 0.092829596 | GB5: 412 | GC5: -88 | GD5: 0.4285363 | GE5: 51.800577 | GF5: 245 | GG5: 13 | GH5: 0.297397 | GI5: 23.063774 | GJ5: 244 | GK5: -9 | GL5: 0.0371766 | GM5: 27.279917 | GN5: 275 | GO5: -114 | GP5: 0 | GQ5: 0 | GR5: 232 | GS5: -7 | GT5: 0.0103173 | GU5: 7.5632722 | GV5: 214 | GW5: -4 | GX5: 17445.41 | GY5: 11.45492 | GZ5: 103 | HA5: -3 | HB5: 32313.26 | HC5: 6.9534016 | HD5: 237 | HE5: -10 | HF5: 0.1018873 | HG5: 10.229479 | HH5: 281 | HI5: -10 | HJ5: 1.354225 | HK5: 40.673094 | HL5: 293 | HM5: 3 | HN5: 2505.2061 | HO5: 24.308712 | HP5: 291 | HQ5: 50 | HR5: 0.0226702 | HS5: 63.296285 | HT5: 29 | HU5: 315 | HV5: 0.1001825 | HW5: 23.746724 | HX5: 148 | HY5: -5 | HZ5: 0.7820333 | IA5: 28.704154 | IB5: 94 | IC5: -14 | ID5: 0.1639138 | IE5: 29.811616 | IF5: 261 | IG5: -22 | IH5: 98.32645 | II5: 44.751704 | IJ5: 301 | IK5: -102 | IL5: 0.7341333 | IM5: 46.581232 | IN5: 221 | IO5: 12 | IP5: 28.02114 | IQ5: 41.205231 | IR5: 205 | IS5: -40 | IT5: 0.938046 | IU5: 92.991013 | IV5: 184 | IW5: -7 | IX5: 0.926971 | IY5: 87.699589 | IZ5: 322 | JA5: -13
A6: Ji-Paraná | B6: 0.6830885 | C6: 36.762435 | D6: 229 | E6: -21 | F6: 0.1509008 | G6: 45.172666 | H6: 49 | I6: 42 | J6: 0.4775 | K6: 48.315603 | L6: 235 | M6: 44 | N6: -0.1811 | O6: 36.125629 | P6: 53 | Q6: -28 | R6: 0.1441596 | S6: 63.194555 | T6: 311 | U6: -61 | V6: 0.0291217 | W6: 63.32059 | X6: 327 | Y6: -1 | Z6: 0.99324324 | AA6: 99.279915 | AB6: 5 | AC6: 7 | AD6: 48.9 | AE6: 72.38151 | AF6: 392 | AG6: -208 | AH6: 0.4212586 | AI6: 45.407505 | AJ6: 300 | AK6: 90 | AL6: 9.41 | AM6: 91.983696 | AN6: 46 | AO6: 0 | AP6: 0.9365 | AQ6: 44.574798 | AR6: 171 | AS6: -23 | AT6: 0.1097597 | AU6: 15.998941 | AV6: 338 | AW6: -19 | AX6: 0.8904091 | AY6: 59.241596 | AZ6: 165 | BA6: -32 | BB6: 0.829765 | BC6: 79.758086 | BD6: 126 | BE6: -32 | BF6: 0 | BG6: 100 | BH6: 1 | BI6: 0 | BJ6: 0.0147 | BK6: 88.393782 | BL6: 149 | BM6: -40 | BN6: 0.0328 | BO6: 86.453333 | BP6: 45 | BQ6: 15 | BR6: 9.399478 | BS6: 84.600017 | BT6: 51 | BU6: 30 | BV6: 185.6674 | BW6: 50.826945 | BX6: 288 | BY6: 66 | BZ6: 0.3514665 | CA6: 9.5258952 | CB6: 399 | CC6: -21 | CD6: 0.8797693 | CE6: 41.342442 | CF6: 373 | CG6: -130 | CH6: 0.8923339 | CI6: 50.706251 | CJ6: 106 | CK6: -37 | CL6: 0.0541916 | CM6: 6.2751188 | CN6: 378 | CO6: -70 | CP6: 0.0521043 | CQ6: 5.1648005 | CR6: 300 | CS6: -48 | CT6: 0.1366906 | CU6: 15.438124 | CV6: 256 | CW6: -37 | CX6: 5.9 | CY6: 37.288136 | CZ6: 196 | DA6: 46 | DB6: 4.8 | DC6: 39.215686 | DD6: 220 | DE6: -21 | DF6: 4.3 | DG6: 67.857143 | DH6: 189 | DI6: 12 | DJ6: 516.0163 | DK6: 33.16418 | DL6: 371 | DM6: -12 | DN6: 32.97596 | DO6: 69.115491 | DP6: 311 | DQ6: 36 | DR6: 0.0238095 | DS6: 97.448982 | DT6: 52 | DU6: 19 | DV6: 95.16042 | DW6: 70.692168 | DX6: 297 | DY6: -41 | DZ6: 22.520168 | EA6: 82.678918 | EB6: 289 | EC6: -79 | ED6: 11.768167 | EE6: 87.253565 | EF6: 200 | EG6: -7 | EH6: 0.6881 | EI6: 66.18237 | EJ6: 367 | EK6: -33 | EL6: 0.4856 | EM6: 51.896691 | EN6: 315 | EO6: -21 | EP6: 0.384 | EQ6: 39.502373 | ER6: 217 | ES6: 19 | ET6: 0.0116 | EU6: 0.71320944 | EV6: 381 | EW6: -11 | EX6: 0.0124 | EY6: 0.65095281 | EZ6: 362 | FA6: -7 | FB6: 1 | FC6: 100 | FD6: 1 | FE6: 173 | FF6: 0 | FG6: 100 | FH6: 1 | FI6: 0 | FJ6: 0.1195825 | FK6: 87.864836 | FL6: 316 | FM6: -13 | FN6: 0.651881 | FO6: 71.072033 | FP6: 45 | FQ6: -7 | FR6: 9.95e-06 | FS6: 99.9483 | FT6: 207 | FU6: -23 | FV6: 0.0046986 | FW6: 99.432868 | FX6: 245 | FY6: -9 | FZ6: 1.66e-05 | GA6: 0.11330671 | GB6: 411 | GC6: -138 | GD6: 0.3900717 | GE6: 57.310773 | GF6: 207 | GG6: 8 | GH6: 0.3304777 | GI6: 26.686167 | GJ6: 208 | GK6: -26 | GL6: 0.0050114 | GM6: 23.967093 | GN6: 367 | GO6: -256 | GP6: 0 | GQ6: 0 | GR6: 232 | GS6: -7 | GT6: 0.0184279 | GU6: 13.612726 | GV6: 103 | GW6: 62 | GX6: 17407.78 | GY6: 11.429783 | GZ6: 104 | HA6: -1 | HB6: 32292.16 | HC6: 6.9472216 | HD6: 239 | HE6: -10 | HF6: 0.0347769 | HG6: 6.5740645 | HH6: 388 | HI6: -13 | HJ6: 1.590532 | HK6: 46.840819 | HL6: 248 | HM6: -23 | HN6: 2378.261 | HO6: 22.142691 | HP6: 320 | HQ6: 26 | HR6: -0.0240823 | HS6: 58.565657 | HT6: 102 | HU6: 238 | HV6: 0.0548424 | HW6: 12.317534 | HX6: 327 | HY6: -86 | HZ6: 0.7443743 | IA6: 27.257204 | IB6: 110 | IC6: -14 | ID6: 0.1408573 | IE6: 23.316224 | IF6: 355 | IG6: -16 | IH6: 93.27493 | II6: 40.130979 | IJ6: 334 | IK6: -77 | IL6: 0.7084939 | IM6: 40.86661 | IN6: 271 | IO6: -24 | IP6: 12.66513 | IQ6: 17.502664 | IR6: 382 | IS6: -381 | IT6: 0.9647025 | IU6: 96.277713 | IV6: 123 | IW6: 131 | IX6: 0.9511048 | IY6: 92.364461 | IZ6: 240 | JA6: 131
A7: Porto Velho | B7: 0.6599383 | C7: 40.306398 | D7: 197 | E7: -22 | F7: 0.0590345 | G7: 16.611679 | H7: 290 | I7: -152 | J7: 0.4854 | K7: 46.914894 | L7: 259 | M7: 36 | N7: -0.0435 | O7: 32.841698 | P7: 122 | Q7: -6 | R7: 0.2373666 | S7: 34.579303 | T7: 393 | U7: -8 | V7: 0.0199881 | W7: 75.926657 | X7: 153 | Y7: 110 | Z7: 0.73456341 | AA7: 69.205591 | AB7: 310 | AC7: -296 | AD7: 18.4 | AE7: 90.228204 | AF7: 179 | AG7: -59 | AH7: 0.5364742 | AI7: 58.081451 | AJ7: 161 | AK7: 18 | AL7: 9.7 | AM7: 95.923913 | AN7: 24 | AO7: 0 | AP7: 0.7401 | AQ7: 32.383613 | AR7: 288 | AS7: 39 | AT7: 0.170275 | AU7: 25.422101 | AV7: 284 | AW7: -15 | AX7: 0.8471 | AY7: 53.821554 | AZ7: 232 | BA7: 13 | BB7: 0.6071052 | BC7: 46.45369 | BD7: 400 | BE7: -29 | BF7: 60.213757 | BG7: 76.014853 | BH7: 250 | BI7: -54 | BJ7: 0.0257 | BK7: 76.994819 | BL7: 295 | BM7: -104 | BN7: 0.0572 | BO7: 73.44 | BP7: 267 | BQ7: -4 | BR7: 16.25772 | BS7: 62.933212 | BT7: 307 | BU7: -64 | BV7: 212.28911 | BW7: 37.334031 | BX7: 361 | BY7: -26 | BZ7: 0.3722841 | CA7: 12.100803 | CB7: 392 | CC7: -39 | CD7: 0.9544837 | CE7: 55.305892 | CF7: 240 | CG7: -191 | CH7: 0.768977 | CI7: 39.67346 | CJ7: 218 | CK7: -54 | CL7: 0.0254857 | CM7: 2.9511178 | CN7: 404 | CO7: -18 | CP7: 0.0267262 | CQ7: 2.2660559 | CR7: 387 | CS7: -60 | CT7: 0.0452799 | CU7: 4.8360619 | CV7: 378 | CW7: -17 | CX7: 5.4 | CY7: 28.813559 | CZ7: 299 | DA7: -40 | DB7: 4.6 | DC7: 35.294118 | DD7: 268 | DE7: 64 | DF7: 4 | DG7: 57.142857 | DH7: 286 | DI7: -13 | DJ7: 525.2993 | DK7: 39.042346 | DL7: 340 | DM7: -12 | DN7: 46.47789 | DO7: 56.15899 | DP7: 360 | DQ7: -8 | DR7: 0.2132353 | DS7: 77.15336 | DT7: 267 | DU7: 46 | DV7: 118.2002 | DW7: 63.145089 | DX7: 339 | DY7: -23 | DZ7: 29.320162 | EA7: 77.352083 | EB7: 341 | EC7: -5 | ED7: 8.8953972 | EE7: 90.385823 | EF7: 157 | EG7: 196 | EH7: 0.3502 | EI7: 29.545701 | EJ7: 402 | EK7: -11 | EL7: 0.3856 | EM7: 61.985472 | EN7: 234 | EO7: 166 | EP7: 0.6194 | EQ7: 24.406823 | ER7: 351 | ES7: 43 | ET7: 0.0927 | EU7: 8.8598694 | EV7: 356 | EW7: -12 | EX7: 0.1218 | EY7: 6.3940364 | EZ7: 324 | FA7: 27 | FB7: 0.9596 | FC7: 93.896359 | FD7: 290 | FE7: -289 | FF7: 1 | FG7: 0 | FH7: 327 | FI7: 55 | FJ7: 2.008404 | FK7: 71.067875 | FL7: 413 | FM7: -14 | FN7: 0.6156464 | FO7: 67.121516 | FP7: 57 | FQ7: -15 | FR7: 0.0024619 | FS7: 87.208118 | FT7: 393 | FU7: -4 | FV7: 0.0583369 | FW7: 92.958597 | FX7: 385 | FY7: -4 | FZ7: 0.0018136 | GA7: 12.3791 | GB7: 134 | GC7: 76 | GD7: 0.4888875 | GE7: 43.155045 | GF7: 284 | GG7: 18 | GH7: 0.3735215 | GI7: 31.399537 | GJ7: 155 | GK7: -121 | GL7: -0.2276923 | GM7: 0 | GN7: 418 | GO7: -414 | GP7: 10.94934 | GQ7: 6.8869924 | GR7: 71 | GS7: -4 | GT7: 0.0119141 | GU7: 8.7542776 | GV7: 187 | GW7: 77 | GX7: 20762.91 | GY7: 13.670975 | GZ7: 72 | HA7: -6 | HB7: 36541.48 | HC7: 8.191796 | HD7: 204 | HE7: -8 | HF7: 0.0134756 | HG7: 5.4138108 | HH7: 406 | HI7: -13 | HJ7: 1.844563 | HK7: 53.471149 | HL7: 192 | HM7: -16 | HN7: 3131.3294 | HO7: 34.992037 | HP7: 137 | HQ7: -89 | HR7: -0.2463028 | HS7: 36.080388 | HT7: 383 | HU7: -198 | HV7: 0.0501392 | HW7: 11.131966 | HX7: 344 | HY7: -101 | HZ7: 0.6579444 | IA7: 23.936359 | IB7: 165 | IC7: -16 | ID7: 0.2463083 | IE7: 53.023492 | IF7: 55 | IG7: -25 | IH7: 105.5761 | II7: 51.383102 | IJ7: 200 | IK7: -115 | IL7: 0.6598716 | IM7: 30.029459 | IN7: 359 | IO7: -1 | IP7: 28.96578 | IQ7: 42.663318 | IR7: 188 | IS7: -32 | IT7: 0.8508418 | IU7: 82.238889 | IV7: 273 | IW7: -34 | IX7: 0.9509914 | IY7: 92.342541 | IZ7: 241 | JA7: -149
A8: Vilhena | B8: 0.6303942 | C8: 44.829174 | D8: 156 | E8: -29 | F8: 0.0345305 | G8: 8.9934513 | H8: 375 | I8: 8 | J8: 0.4586 | K8: 51.666667 | L8: 190 | M8: 42 | N8: -0.0703 | O8: 33.481301 | P8: 105 | Q8: 5 | R8: 0.1228818 | S8: 69.727 | T8: 266 | U8: -24 | V8: 0.025425 | W8: 68.422723 | X8: 255 | Y8: -32 | Z8: 0.73172211 | AA8: 68.87526 | AB8: 313 | AC8: -20 | AD8: 14.4 | AE8: 92.568754 | AF8: 133 | AG8: -24 | AH8: 0.4200454 | AI8: 45.27405 | AJ8: 301 | AK8: 9 | AL8: 6.53 | AM8: 52.853261 | AN8: 242 | AO8: -5 | AP8: 1.187 | AQ8: 60.124146 | AR8: 55 | AS8: 181 | AT8: 0.1290266 | AU8: 18.999093 | AV8: 321 | AW8: -13 | AX8: 1.119818 | AY8: 87.951637 | AZ8: 3 | BA8: 2 | BB8: 0.8358008 | BC8: 80.660892 | BD8: 120 | BE8: -11 | BF8: 0 | BG8: 100 | BH8: 1 | BI8: 0 | BJ8: 0.0129 | BK8: 90.259067 | BL8: 120 | BM8: -36 | BN8: 0.0284 | BO8: 88.8 | BP8: 15 | BQ8: 97 | BR8: 14.1319 | BS8: 69.649179 | BT8: 227 | BU8: 102 | BV8: 211.4102 | BW8: 37.779497 | BX8: 360 | BY8: -94 | BZ8: 0.4044531 | CA8: 16.079754 | CB8: 369 | CC8: -2 | CD8: 0.9197044 | CE8: 48.805953 | CF8: 323 | CG8: -144 | CH8: 0.8368062 | CI8: 45.739966 | CJ8: 151 | CK8: -55 | CL8: 0.0105364 | CM8: 1.2200629 | CN8: 417 | CO8: -18 | CP8: 0.0268866 | CQ8: 2.2843772 | CR8: 386 | CS8: -65 | CT8: 0.031694 | CU8: 3.2603323 | CV8: 393 | CW8: -33 | CX8: 5.6 | CY8: 32.20339 | CZ8: 260 | DA8: -18 | DB8: 4.9 | DC8: 41.176471 | DD8: 184 | DE8: -21 | DF8: 4.1 | DG8: 60.714286 | DH8: 250 | DI8: 43 | DJ8: 528.0102 | DK8: 40.758938 | DL8: 324 | DM8: -12 | DN8: 45.91368 | DO8: 56.700408 | DP8: 358 | DQ8: -28 | DR8: 0 | DS8: 100 | DT8: 1 | DU8: 0 | DV8: 130.2027 | DW8: 59.213462 | DX8: 361 | DY8: -28 | DZ8: 37.565739 | EA8: 70.892839 | EB8: 376 | EC8: -14 | ED8: 33.171162 | EE8: 63.917305 | EF8: 399 | EG8: -12 | EH8: 0.9503 | EI8: 94.611298 | EJ8: 171 | EK8: -71 | EL8: .n | EM8: 0 | EN8: 401 | EO8: -16 | EP8: .n | EQ8: 0 | ER8: 402 | ES8: -25 | ET8: .n | EU8: 0 | EV8: 387 | EW8: -8 | EX8: .n | EY8: 0 | EZ8: 368 | FA8: -4 | FB8: 1 | FC8: 100 | FD8: 1 | FE8: 142 | FF8: 0 | FG8: 100 | FH8: 1 | FI8: 0 | FJ8: 0.182271 | FK8: 87.307358 | FL8: 362 | FM8: -14 | FN8: 0.8142763 | FO8: 88.777356 | FP8: 20 | FQ8: -8 | FR8: 0.0007398 | FS8: 96.156044 | FT8: 356 | FU8: 10 | FV8: 0.0677511 | FW8: 91.82228 | FX8: 389 | FY8: -30 | FZ8: 0.0003163 | GA8: 2.1589707 | GB8: 331 | GC8: -92 | GD8: 0.3875682 | GE8: 57.669409 | GF8: 202 | GG8: 22 | GH8: 0.3937845 | GI8: 33.61837 | GJ8: 126 | GK8: -9 | GL8: 0.0559253 | GM8: 29.210921 | GN8: 200 | GO8: -170 | GP8: 0 | GQ8: 0 | GR8: 232 | GS8: -7 | GT8: 0.0084036 | GU8: 6.1359005 | GV8: 255 | GW8: 34 | GX8: 26713.82 | GY8: 17.646121 | GZ8: 43 | HA8: -3 | HB8: 40328.81 | HC8: 9.3010591 | HD8: 182 | HE8: -6 | HF8: 0.307524 | HG8: 21.430239 | HH8: 40 | HI8: -1 | HJ8: 1.150914 | HK8: 35.36658 | HL8: 340 | HM8: -26 | HN8: 2728.2557 | HO8: 28.11453 | HP8: 236 | HQ8: 38 | HR8: 0.0016076 | HS8: 61.165077 | HT8: 59 | HU8: 205 | HV8: 0.0389351 | HW8: 8.3076719 | HX8: 377 | HY8: -63 | HZ8: 0.6951174 | IA8: 25.364635 | IB8: 140 | IC8: -14 | ID8: 0.1342889 | IE8: 21.465798 | IF8: 369 | IG8: -10 | IH8: 99.64709 | II8: 45.959719 | IJ8: 287 | IK8: -141 | IL8: 0.6879467 | IM8: 36.28696 | IN8: 305 | IO8: -86 | IP8: 21.68196 | IQ8: 31.420473 | IR8: 294 | IS8: -30 | IT8: 0.9457312 | IU8: 93.938585 | IV8: 171 | IW8: -16 | IX8: 0.9522757 | IY8: 92.590786 | IZ8: 231 | JA8: 7
A9: Cruzeiro do Sul | B9: 0.8613015 | C9: 9.4805913 | D9: 393 | E9: -8 | F9: 0.0756696 | G9: 21.783487 | H9: 232 | I9: -135 | J9: 0.6268 | K9: 21.843972 | L9: 403 | M9: -8 | N9: 0.0656 | O9: 30.237942 | P9: 208 | Q9: 18 | R9: 0.2231883 | S9: 38.932148 | T9: 388 | U9: -29 | V9: 0.0260401 | W9: 67.573771 | X9: 268 | Y9: 1 | Z9: 0.4640939 | AA9: 37.76059 | AB9: 397 | AC9: -263 | AD9: 10.7 | AE9: 94.733762 | AF9: 86 | AG9: -19 | AH9: 0.3682889 | AI9: 39.580732 | AJ9: 349 | AK9: -72 | AL9: 5.85 | AM9: 43.61413 | AN9: 290 | AO9: -8 | AP9: 1.6546 | AQ9: 89.149597 | AR9: 8 | AS9: 72 | AT9: 0.016995 | AU9: 1.5540546 | AV9: 411 | AW9: -14 | AX9: 1.025864 | AY9: 76.193492 | AZ9: 21 | BA9: 228 | BB9: 0.7027904 | BC9: 60.765828 | BD9: 324 | BE9: -17 | BF9: 0 | BG9: 100 | BH9: 1 | BI9: 0 | BJ9: 0.0326 | BK9: 69.84456 | BL9: 353 | BM9: -33 | BN9: 0.0805 | BO9: 61.013333 | BP9: 370 | BQ9: -53 | BR9: 18.17002 | BS9: 56.891805 | BT9: 353 | BU9: -114 | BV9: 145.96431 | BW9: 70.95001 | BX9: 103 | BY9: -44 | BZ9: 0.4785304 | CA9: 25.242301 | CB9: 299 | CC9: -37 | CD9: 0.9215632 | CE9: 49.153346 | CF9: 320 | CG9: -255 | CH9: 0.7612035 | CI9: 38.978214 | CJ9: 229 | CK9: 14 | CL9: 0.09748 | CM9: 11.287701 | CN9: 336 | CO9: -17 | CP9: 0.1240296 | CQ9: 13.380273 | CR9: 153 | CS9: 50 | CT9: 0.3299483 | CU9: 37.852677 | CV9: 76 | CW9: 38 | CX9: 5.7 | CY9: 33.898305 | CZ9: 238 | DA9: 21 | DB9: 4.8 | DC9: 39.215686 | DD9: 220 | DE9: 39 | DF9: 3.9 | DG9: 53.571429 | DH9: 306 | DI9: -33 | DJ9: 507.6938 | DK9: 27.89422 | DL9: 388 | DM9: -13 | DN9: 11.9711 | DO9: 89.271831 | DP9: 129 | DQ9: 41 | DR9: 0.2142857 | DS9: 77.040817 | DT9: 268 | DU9: -267 | DV9: 55.99731 | DW9: 83.520724 | DX9: 174 | DY9: -110 | DZ9: 15.23594 | EA9: 88.385082 | EB9: 199 | EC9: -31 | ED9: 10.875974 | EE9: 88.226347 | EF9: 190 | EG9: 22 | EH9: 0.5057 | EI9: 46.405725 | EJ9: 390 | EK9: -7 | EL9: 0.4064 | EM9: 59.887006 | EN9: 249 | EO9: 141 | EP9: 0.7437 | EQ9: 16.435809 | ER9: 380 | ES9: 5 | ET9: .n | EU9: 0 | EV9: 387 | EW9: -8 | EX9: .n | EY9: 0 | EZ9: 368 | FA9: -4 | FB9: 0.9638 | FC9: 94.530896 | FD9: 282 | FE9: 89 | FF9: 1 | FG9: 0 | FH9: 327 | FI9: 29 | FJ9: 1.328862 | FK9: 77.110924 | FL9: 410 | FM9: -14 | FN9: 0.8843438 | FO9: 96.416542 | FP9: 7 | FQ9: -1 | FR9: 0.0023611 | FS9: 87.731869 | FT9: 390 | FU9: -17 | FV9: 0.0119788 | FW9: 98.55413 | FX9: 300 | FY9: -6 | FZ9: 0.0003175 | GA9: 2.1671615 | GB9: 330 | GC9: -26 | GD9: 0.6125612 | GE9: 25.438331 | GF9: 376 | GG9: -19 | GH9: 0.1936676 | GI9: 11.705228 | GJ9: 350 | GK9: -21 | GL9: 0.0360447 | GM9: 27.163338 | GN9: 278 | GO9: -240 | GP9: 0.5869976 | GQ9: 0.36921385 | GR9: 167 | GS9: -5 | GT9: 0.0075431 | GU9: 5.4940793 | GV9: 284 | GW9: -2 | GX9: 8603.149 | GY9: 5.5483818 | GZ9: 253 | HA9: -3 | HB9: 22934.83 | HC9: 4.206573 | HD9: 318 | HE9: -10 | HF9: 0.139076 | HG9: 12.255099 | HH9: 186 | HI9: -6 | HJ9: 1.083336 | HK9: 33.602762 | HL9: 352 | HM9: 20 | HN9: 1542.0764 | HO9: 7.8751636 | HP9: 413 | HQ9: -28 | HR9: -0.3092499 | HS9: 29.711117 | HT9: 396 | HU9: -41 | HV9: 0.0890882 | HW9: 20.950108 | HX9: 183 | HY9: -98 | HZ9: 0.5239994 | IA9: 18.789869 | IB9: 237 | IC9: -23 | ID9: 0.2131312 | IE9: 43.676962 | IF9: 117 | IG9: -63 | IH9: 93.32297 | II9: 40.174922 | IJ9: 333 | IK9: -21 | IL9: 0.8685371 | IM9: 76.537741 | IN9: 59 | IO9: -10 | IP9: 13.43945 | IQ9: 18.697856 | IR9: 373 | IS9: -3 | IT9: 0.9363939 | IU9: 92.787312 | IV9: 188 | IW9: 3 | IX9: 0.9814703 | IY9: 98.233871 | IZ9: 24 | JA9: 289
A10: Rio Branco | B10: 0.6617177 | C10: 40.033997 | D10: 200 | E10: 3 | F10: 0.1441634 | G10: 43.078027 | H10: 56 | I10: 204 | J10: 0.538 | K10: 37.588652 | L10: 356 | M10: -240 | N10: -0.0641 | O10: 33.333333 | P10: 110 | Q10: -61 | R10: 0.1112195 | S10: 73.307414 | T10: 243 | U10: -43 | V10: 0.0359157 | W10: 53.943606 | X10: 380 | Y10: -43 | Z10: 0.95140333 | AA10: 94.415574 | AB10: 44 | AC10: 100 | AD10: 7.3 | AE10: 96.72323 | AF10: 46 | AG10: 58 | AH10: 0.6836066 | AI10: 74.266309 | AJ10: 33 | AK10: 0 | AL10: 9.7 | AM10: 95.923913 | AN10: 24 | AO10: 0 | AP10: 0.9503 | AQ10: 45.431409 | AR10: 159 | AS10: 125 | AT10: 0.1026938 | AU10: 14.898672 | AV10: 343 | AW10: -10 | AX10: 0.8733273 | AY10: 57.103845 | AZ10: 193 | BA10: 7 | BB10: 0.610604 | BC10: 46.977024 | BD10: 398 | BE10: 1 | BF10: 19.421246 | BG10: 92.26387 | BH10: 162 | BI10: 27 | BJ10: 0.0232 | BK10: 79.585492 | BL10: 267 | BM10: -60 | BN10: 0.0575 | BO10: 73.28 | BP10: 270 | BQ10: -8 | BR10: 19.03282 | BS10: 54.166017 | BT10: 371 | BU10: -46 | BV10: 176.96449 | BW10: 55.237917 | BX10: 260 | BY10: -176 | BZ10: 0.4114841 | CA10: 16.949411 | CB10: 361 | CC10: -46 | CD10: 0.9134371 | CE10: 47.634651 | CF10: 332 | CG10: -84 | CH10: 0.7369477 | CI10: 36.808824 | CJ10: 254 | CK10: -51 | CL10: 0.270613 | CM10: 31.335645 | CN10: 233 | CO10: 3 | CP10: 0.1298716 | CQ10: 14.047559 | CR10: 138 | CS10: 52 | CT10: 0.2709792 | CU10: 31.013281 | CV10: 109 | CW10: 23 | CX10: 6.2 | CY10: 42.372881 | CZ10: 129 | DA10: 62 | DB10: 4.9 | DC10: 41.176471 | DD10: 184 | DE10: 75 | DF10: 4.1 | DG10: 60.714286 | DH10: 250 | DI10: -12 | DJ10: 537.2197 | DK10: 46.590562 | DL10: 286 | DM10: -11 | DN10: 33.44702 | DO10: 68.66346 | DP10: 315 | DQ10: -8 | DR10: 0.1223022 | DS10: 86.896192 | DT10: 194 | DU10: -94 | DV10: 84.83719 | DW10: 74.073721 | DX10: 269 | DY10: -62 | DZ10: 19.190912 | EA10: 85.28692 | EB10: 259 | EC10: -63 | ED10: 28.000372 | EE10: 69.555156 | EF10: 385 | EG10: -136 | EH10: 0.5313 | EI10: 49.181394 | EJ10: 386 | EK10: -9 | EL10: 0.5606 | EM10: 44.330105 | EN10: 351 | EO10: 5 | EP10: 0.5998 | EQ10: 25.663717 | ER10: 337 | ES10: 16 | ET10: 0.1991 | EU10: 19.547966 | EV10: 329 | EW10: -10 | EX10: 0.4049 | EY10: 21.255709 | EZ10: 222 | FA10: 137 | FB10: 0.9455 | FC10: 91.766128 | FD10: 303 | FE10: 9 | FF10: 0 | FG10: 100 | FH10: 1 | FI10: 0 | FJ10: 0.6662948 | FK10: 83.003018 | FL10: 404 | FM10: -14 | FN10: 0.646836 | FO10: 70.521996 | FP10: 47 | FQ10: -10 | FR10: 0.0045936 | FS10: 76.131935 | FT10: 408 | FU10: -24 | FV10: 0.0204394 | FW10: 97.532916 | FX10: 331 | FY10: -2 | FZ10: 0.0003983 | GA10: 2.7186785 | GB10: 316 | GC10: 48 | GD10: 0.4927343 | GE10: 42.603977 | GF10: 287 | GG10: -10 | GH10: 0.4558377 | GI10: 40.413301 | GJ10: 68 | GK10: 26 | GL10: 0.1487949 | GM10: 38.775936 | GN10: 51 | GO10: 253 | GP10: 6.787928 | GQ10: 4.2695184 | GR10: 84 | GS10: -3 | GT10: 0.0125928 | GU10: 9.2604996 | GV10: 175 | GW10: 45 | GX10: 15818.73 | GY10: 10.368314 | GZ10: 121 | HA10: 0 | HB10: 26119.02 | HC10: 5.1391837 | HD10: 288 | HE10: -10 | HF10: 0.1533337 | HG10: 13.031697 | HH10: 159 | HI10: -6 | HJ10: 1.953236 | HK10: 56.307567 | HL10: 172 | HM10: -2 | HN10: 3781.3842 | HO10: 46.083696 | HP10: 33 | HQ10: 52 | HR10: 0.0115654 | HS10: 62.172652 | HT10: 49 | HU10: 350 | HV10: 0.086631 | HW10: 20.330705 | HX10: 188 | HY10: -109 | HZ10: 0.5715849 | IA10: 20.618219 | IB10: 214 | IC10: -23 | ID10: 0.362137 | IE10: 85.654328 | IF10: 5 | IG10: 3 | IH10: 113.9223 | II10: 59.017536 | IJ10: 100 | IK10: -40 | IL10: 0.6636754 | IM10: 30.877266 | IN10: 351 | IO10: 26 | IP10: 25.30708 | IQ10: 37.01598 | IR10: 235 | IS10: -9 | IT10: 0.8332314 | IU10: 80.067558 | IV10: 282 | IW10: -21 | IX10: 0.980826 | IY10: 98.109333 | IZ10: 30 | JA10: -1
A11: Itacoatiara | B11: 0.8344244 | C11: 13.595088 | D11: 378 | E11: -21 | F11: 0.0848186 | G11: 24.627887 | H11: 204 | I11: -22 | J11: 0.4799 | K11: 47.890071 | L11: 244 | M11: 100 | N11: -0.0656 | O11: 33.369132 | P11: 109 | Q11: 32 | R11: 0.0797883 | S11: 82.957029 | T11: 137 | U11: 7 | V11: 0.0233506 | W11: 71.285781 | X11: 220 | Y11: 62 | Z11: 0.8522869 | AA11: 82.892219 | AB11: 226 | AC11: 79 | AD11: 10.3 | AE11: 94.967817 | AF11: 80 | AG11: 21 | AH11: 0.3448091 | AI11: 36.997907 | AJ11: 368 | AK11: -68 | AL11: 5.82 | AM11: 43.206522 | AN11: 294 | AO11: -8 | AP11: 1.0818 | AQ11: 53.594041 | AR11: 87 | AS11: 109 | AT11: 0.0231337 | AU11: 2.5099444 | AV11: 406 | AW11: -14 | AX11: 0.9762546 | AY11: 69.98498 | AZ11: 46 | BA11: 8 | BB11: 0.6644295 | BC11: 55.027987 | BD11: 360 | BE11: 31 | BF11: 167.78523 | BG11: 33.165549 | BH11: 398 | BI11: -397 | BJ11: 0.0256 | BK11: 77.098446 | BL11: 294 | BM11: -25 | BN11: 0.0617 | BO11: 71.04 | BP11: 295 | BQ11: 35 | BR11: 16.77852 | BS11: 61.287882 | BT11: 323 | BU11: -157 | BV11: 169.6721 | BW11: 58.933983 | BX11: 237 | BY11: -147 | BZ11: 0.3395849 | CA11: 8.0562721 | CB11: 404 | CC11: -19 | CD11: 0.8432092 | CE11: 34.509688 | CF11: 395 | CG11: -34 | CH11: 0.6563786 | CI11: 29.602887 | CJ11: 344 | CK11: -26 | CL11: 0.0117365 | CM11: 1.3590286 | CN11: 415 | CO11: -27 | CP11: 0.0428197 | CQ11: 4.1042923 | CR11: 330 | CS11: 52 | CT11: 0.1312617 | CU11: 14.808465 | CV11: 268 | CW11: -18 | CX11: 5.6 | CY11: 32.20339 | CZ11: 260 | DA11: -18 | DB11: 4.7 | DC11: 37.254902 | DD11: 251 | DE11: 30 | DF11: 3.6 | DG11: 42.857143 | DH11: 364 | DI11: -65 | DJ11: 482.8874 | DK11: 12.186351 | DL11: 413 | DM11: -14 | DN11: 30.88863 | DO11: 71.1185 | DP11: 294 | DQ11: -10 | DR11: 0.1578947 | DS11: 83.08271 | DT11: 226 | DU11: -16 | DV11: 74.67463 | DW11: 77.402644 | DX11: 239 | DY11: 59 | DZ11: 9.6526957 | EA11: 92.758765 | EB11: 98 | EC11: 60 | ED11: 1.1553502 | EE11: 98.825005 | EF11: 33 | EG11: 25 | EH11: 0.7317 | EI11: 70.909682 | EJ11: 357 | EK11: 15 | EL11: 0.731 | EM11: 27.138822 | EN11: 396 | EO11: -336 | EP11: 0.0491 | EQ11: 60.978582 | ER11: 14 | ES11: 385 | ET11: .n | EU11: 0 | EV11: 387 | EW11: -8 | EX11: .n | EY11: 0 | EZ11: 368 | FA11: -4 | FB11: 0.3381 | FC11: 0 | FD11: 406 | FE11: -11 | FF11: 1 | FG11: 0 | FH11: 327 | FI11: -326 | FJ11: 0.3328776 | FK11: 85.96804 | FL11: 390 | FM11: -14 | FN11: 0.6816339 | FO11: 74.315875 | FP11: 37 | FQ11: -7 | FR11: 0.0005842 | FS11: 96.964533 | FT11: 340 | FU11: -11 | FV11: 0.0167439 | FW11: 97.978971 | FX11: 317 | FY11: 9 | FZ11: 0.0005136 | GA11: 3.5056824 | GB11: 298 | GC11: -47 | GD11: 0.6654639 | GE11: 17.859824 | GF11: 397 | GG11: -13 | GH11: 0.1467845 | GI11: 6.5714491 | GJ11: 390 | GK11: -30 | GL11: -0.0653561 | GM11: 16.719661 | GN11: 411 | GO11: -362 | GP11: 0 | GQ11: 0 | GR11: 232 | GS11: -7 | GT11: 0.0024583 | GU11: 1.7014789 | GV11: 398 | GW11: -20 | GX11: 2442.44 | GY11: 1.4330925 | GZ11: 409 | HA11: -17 | HB11: 22590.61 | HC11: 4.1057551 | HD11: 325 | HE11: -10 | HF11: 0.0204858 | HG11: 5.7956471 | HH11: 399 | HI11: -13 | HJ11: 0.7294732 | HK11: 24.366774 | HL11: 394 | HM11: -14 | HN11: 1470.6859 | HO11: 6.6570522 | HP11: 415 | HQ11: -97 | HR11: -0.4163254 | HS11: 18.876737 | HT11: 412 | HU11: -126 | HV11: 0.0559871 | HW11: 12.606087 | HX11: 316 | HY11: 17 | HZ11: 0.4959947 | IA11: 17.713861 | IB11: 244 | IC11: -2 | ID11: 0.2200674 | IE11: 45.631002 | IF11: 99 | IG11: -57 | IH11: 72.7995 | II11: 21.401698 | IJ11: 403 | IK11: -26 | IL11: 0.8886149 | IM11: 81.012769 | IN11: 51 | IO11: 85 | IP11: 12.70796 | IQ11: 17.568774 | IR11: 381 | IS11: 2 | IT11: 0.9337716 | IU11: 92.463987 | IV11: 190 | IW11: -41 | IX11: 0.9669907 | IY11: 95.435079 | IZ11: 128 | JA11: 57
A12: Manacapuru | B12: 0.9221046 | C12: 0.17251216 | D12: 410 | E12: -14 | F12: 0.1222506 | G12: 36.265396 | H12: 93 | I12: -55 | J12: 0.5947 | K12: 27.535461 | L12: 396 | M12: -27 | N12: 0.1863 | O12: 27.357342 | P12: 285 | Q12: -28 | R12: 0.1949118 | S12: 47.613247 | T12: 369 | U12: -17 | V12: 0.0217754 | W12: 73.45985 | X12: 180 | Y12: 11 | Z12: 0.78044872 | AA12: 74.540254 | AB12: 279 | AC12: 11 | AD12: 9 | AE12: 95.728496 | AF12: 66 | AG12: -26 | AH12: 0.2658949 | AI12: 28.317187 | AJ12: 397 | AK12: -30 | AL12: 6.8 | AM12: 56.521739 | AN12: 218 | AO12: -4 | AP12: 1.0596 | AQ12: 52.216015 | AR12: 101 | AS12: -100 | AT12: 0.0074261 | AU12: 0.064030146 | AV12: 416 | AW12: -12 | AX12: 0.8119273 | AY12: 49.419764 | AZ12: 283 | BA12: -67 | BB12: 0.6580153 | BC12: 54.068581 | BD12: 364 | BE12: 24 | BF12: 152.67177 | BG12: 39.185744 | BH12: 387 | BI12: -168 | BJ12: 0.0231 | BK12: 79.689119 | BL12: 265 | BM12: 28 | BN12: 0.0673 | BO12: 68.053333 | BP12: 327 | BQ12: 12 | BR12: 11.70483 | BS12: 77.316866 | BT12: 116 | BU12: 242 | BV12: 177.49663 | BW12: 54.968208 | BX12: 262 | BY12: -198 | BZ12: 0.390354 | CA12: 14.335851 | CB12: 381 | CC12: -22 | CD12: 0.9054219 | CE12: 46.136682 | CF12: 346 | CG12: -90 | CH12: 0.6663232 | CI12: 30.492312 | CJ12: 333 | CK12: -31 | CL12: 0.02789 | CM12: 3.2295238 | CN12: 402 | CO12: -24 | CP12: 0.082472 | CQ12: 8.6334686 | CR12: 225 | CS12: 32 | CT12: 0.029154 | CU12: 2.9657362 | CV12: 394 | CW12: -20 | CX12: 5.2 | CY12: 25.423729 | CZ12: 331 | DA12: -37 | DB12: 4.9 | DC12: 41.176471 | DD12: 184 | DE12: 75 | DF12: 3.5 | DG12: 39.285714 | DH12: 380 | DI12: -94 | DJ12: 463.6423 | DK12: 0 | DL12: 418 | DM12: -14 | DN12: 22.57491 | DO12: 79.096376 | DP12: 230 | DQ12: 27 | DR12: 0.2333333 | DS12: 75.000003 | DT12: 283 | DU12: -194 | DV12: 45.93478 | DW12: 86.81688 | DX12: 136 | DY12: 11 | DZ12: 11.778217 | EA12: 91.093719 | EB12: 139 | EC12: -62 | ED12: 14.093287 | EE12: 84.718424 | EF12: 250 | EG12: -82 | EH12: 1 | EI12: 100 | EJ12: 1 | EK12: 259 | EL12: 0.3056 | EM12: 70.056497 | EN12: 139 | EO12: -134 | EP12: 0.6944 | EQ12: 19.597281 | ER12: 372 | ES12: -350 | ET12: .n | EU12: 0 | EV12: 387 | EW12: -8 | EX12: .n | EY12: 0 | EZ12: 368 | FA12: -4 | FB12: 0.9717 | FC12: 95.72443 | FD12: 272 | FE12: 101 | FF12: 1 | FG12: 0 | FH12: 327 | FI12: -326 | FJ12: 0.3582712 | FK12: 85.742219 | FL12: 392 | FM12: -14 | FN12: 0.7036604 | FO12: 76.717338 | FP12: 33 | FQ12: -8 | FR12: 0.00022 | FS12: 98.856893 | FT12: 299 | FU12: 18 | FV12: 0.0098277 | FW12: 98.813773 | FX12: 287 | FY12: -1 | FZ12: 0.0009637 | GA12: 6.5779325 | GB12: 229 | GC12: -163 | GD12: 0.7579478 | GE12: 4.6111644 | GF12: 415 | GG12: -13 | GH12: 0.1367534 | GI12: 5.4730266 | GJ12: 396 | GK12: -21 | GL12: 0.0397698 | GM12: 27.547001 | GN12: 263 | GO12: -262 | GP12: 0 | GQ12: 0 | GR12: 232 | GS12: -7 | GT12: 0.002617 | GU12: 1.8198485 | GV12: 395 | GW12: -8 | GX12: 2030.558 | GY12: 1.1579597 | GZ12: 414 | HA12: -13 | HB12: 15506.76 | HC12: 2.0309813 | HD12: 382 | HE12: -13 | HF12: 0.0664913 | HG12: 8.3015059 | HH12: 351 | HI12: -11 | HJ12: 0.2682243 | HK12: 12.327957 | HL12: 412 | HM12: -13 | HN12: 2125.7385 | HO12: 17.833988 | HP12: 376 | HQ12: 8 | HR12: -0.0485018 | HS12: 56.094782 | HT12: 173 | HU12: 223 | HV12: 0.0352777 | HW12: 7.385726 | HX12: 384 | HY12: -5 | HZ12: 0.2746448 | IA12: 9.2090643 | IB12: 337 | IC12: -6 | ID12: 0.1818822 | IE12: 34.873608 | IF12: 200 | IG12: -89 | IH12: 73.65007 | II12: 22.179731 | IJ12: 400 | IK12: -16 | IL12: 0.7692336 | IM12: 54.404541 | IN12: 147 | IO12: 33 | IP12: 8.766747 | IQ12: 11.485366 | IR12: 403 | IS12: -22 | IT12: 0.8917972 | IU12: 87.288618 | IV12: 239 | IW12: -104 | IX12: 0.9501237 | IY12: 92.174822 | IZ12: 245 | JA12: -25
A13: Manaus | B13: 0.6328933 | C13: 44.446598 | D13: 161 | E13: 6 | F13: 0.1407747 | G13: 42.024489 | H13: 63 | I13: -23 | J13: 0.3669 | K13: 67.925532 | L13: 40 | M13: -2 | N13: 0.3347 | O13: 23.815661 | P13: 347 | Q13: -11 | R13: 0.0611462 | S13: 88.680294 | T13: 59 | U13: 44 | V13: 0.0277012 | W13: 65.281144 | X13: 303 | Y13: 10 | Z13: 0.92945253 | AA13: 91.863556 | AB13: 80 | AC13: -9 | AD13: 8.3 | AE13: 96.138092 | AF13: 55 | AG13: -14 | AH13: 0.5902622 | AI13: 63.998238 | AJ13: 103 | AK13: -28 | AL13: 7.64 | AM13: 67.934783 | AN13: 171 | AO13: -2 | AP13: 0.7205 | AQ13: 31.166977 | AR13: 300 | AS13: -79 | AT13: 0.2905738 | AU13: 44.15447 | AV13: 163 | AW13: 7 | AX13: 0.9592819 | AY13: 67.860882 | AZ13: 65 | BA13: 8 | BB13: 0.623346 | BC13: 48.882912 | BD13: 389 | BE13: -24 | BF13: 56.751995 | BG13: 77.393788 | BH13: 240 | BI13: 28 | BJ13: 0.0133 | BK13: 89.84456 | BL13: 129 | BM13: 6 | BN13: 0.0486 | BO13: 78.026667 | BP13: 190 | BQ13: 23 | BR13: 18.42946 | BS13: 56.072173 | BT13: 359 | BU13: -65 | BV13: 207.24667 | BW13: 39.889735 | BX13: 348 | BY13: -19 | BZ13: 0.3152012 | CA13: 5.0402768 | CB13: 411 | CC13: -16 | CD13: 0.9590107 | CE13: 56.151948 | CF13: 228 | CG13: -152 | CH13: 0.7586353 | CI13: 38.748519 | CJ13: 232 | CK13: -63 | CL13: 0.0878235 | CM13: 10.169526 | CN13: 346 | CO13: -26 | CP13: 0.0871704 | CQ13: 9.1701306 | CR13: 215 | CS13: 22 | CT13: 0.1131426 | CU13: 12.706962 | CV13: 292 | CW13: -23 | CX13: 6.2 | CY13: 42.372881 | CZ13: 129 | DA13: 62 | DB13: 5.1 | DC13: 45.098039 | DD13: 130 | DE13: 69 | DF13: 4 | DG13: 57.142857 | DH13: 286 | DI13: -13 | DJ13: 512.2936 | DK13: 30.806898 | DL13: 379 | DM13: -12 | DN13: 48.45691 | DO13: 54.259915 | DP13: 369 | DQ13: 8 | DR13: 0.0215264 | DS13: 97.6936 | DT13: 49 | DU13: 70 | DV13: 111.3553 | DW13: 65.387255 | DX13: 328 | DY13: 19 | DZ13: 15.167014 | EA13: 88.439076 | EB13: 195 | EC13: -4 | ED13: 2.9872534 | EE13: 96.827631 | EF13: 70 | EG13: 47 | EH13: 0.9798 | EI13: 97.809823 | EJ13: 100 | EK13: 11 | EL13: 0.4749 | EM13: 52.97619 | EN13: 308 | EO13: 41 | EP13: 0.6512 | EQ13: 22.367577 | ER13: 360 | ES13: 3 | ET13: 0.2846 | EU13: 28.136615 | EV13: 310 | EW13: -5 | EX13: 0.2231 | EY13: 11.711901 | EZ13: 277 | FA13: 5 | FB13: 0.987 | FC13: 98.035957 | FD13: 246 | FE13: 46 | FF13: 0 | FG13: 100 | FH13: 1 | FI13: 0 | FJ13: 0.0687542 | FK13: 88.316843 | FL13: 231 | FM13: -11 | FN13: 0.8158144 | FO13: 88.945049 | FP13: 19 | FQ13: -6 | FR13: 0.0002564 | FS13: 98.667761 | FT13: 309 | FU13: -36 | FV13: 0.0195376 | FW13: 97.641765 | FX13: 329 | FY13: -55 | FZ13: 0.0001583 | GA13: 1.0805092 | GB13: 362 | GC13: -40 | GD13: 0.4913071 | GE13: 42.808428 | GF13: 286 | GG13: 0 | GH13: 0.383453 | GI13: 32.487053 | GJ13: 138 | GK13: -16 | GL13: 0.0384328 | GM13: 27.409298 | GN13: 270 | GO13: -94 | GP13: 11.58176 | GQ13: 7.2847764 | GR13: 66 | GS13: -18 | GT13: 0.0217928 | GU13: 16.122505 | GV13: 75 | GW13: -4 | GX13: 12446.41 | GY13: 8.1156399 | GZ13: 169 | HA13: 3 | HB13: 45782.75 | HC13: 10.898452 | HD13: 153 | HE13: -4 | HF13: 0.1072742 | HG13: 10.522897 | HH13: 264 | HI13: -10 | HJ13: 3.627245 | HK13: 100 | HL13: 1 | HM13: 0 | HN13: 3549.8273 | HO13: 42.132721 | HP13: 61 | HQ13: 26 | HR13: -0.0434757 | HS13: 56.603346 | HT13: 159 | HU13: 159 | HV13: 0.0551332 | HW13: 12.390838 | HX13: 324 | HY13: -29 | HZ13: 0.5958689 | IA13: 21.551269 | IB13: 197 | IC13: 7 | ID13: 0.2412444 | IE13: 51.596909 | IF13: 60 | IG13: -11 | IH13: 108.807 | II13: 54.33847 | IJ13: 158 | IK13: -78 | IL13: 0.6761857 | IM13: 33.665617 | IN13: 326 | IO13: 16 | IP13: 22.68628 | IQ13: 32.970678 | IR13: 276 | IS13: -29 | IT13: 0.6865361 | IU13: 61.980286 | IV13: 358 | IW13: -18 | IX13: 0.9746237 | IY13: 96.910478 | IZ13: 75 | JA13: -40
A14: Parintins | B14: 0.8541189 | C14: 10.580144 | D14: 390 | E14: 5 | F14: 0.137973 | G14: 41.153448 | H14: 70 | I14: 159 | J14: 0.4757 | K14: 48.634752 | L14: 230 | M14: -23 | N14: -0.0308 | O14: 32.538603 | P14: 132 | Q14: -10 | R14: 0.1307248 | S14: 67.31914 | T14: 284 | U14: -97 | V14: 0.018122 | W14: 78.502222 | X14: 127 | Y14: -17 | Z14: 0.90357762 | AA14: 88.855319 | AB14: 142 | AC14: -107 | AD14: 10.7 | AE14: 94.733762 | AF14: 86 | AG14: 41 | AH14: 0.2980894 | AI14: 31.858647 | AJ14: 387 | AK14: -29 | AL14: 7.16 | AM14: 61.413043 | AN14: 197 | AO14: -4 | AP14: 1.1645 | AQ14: 58.727498 | AR14: 61 | AS14: 197 | AT14: 0.0071698 | AU14: 0.024120306 | AV14: 417 | AW14: -15 | AX14: 0.7936546 | AY14: 47.132974 | AZ14: 303 | BA14: -5 | BB14: 0.6219854 | BC14: 48.6794 | BD14: 392 | BE14: -6 | BF14: 112.1705 | BG14: 55.31875 | BH14: 355 | BI14: -129 | BJ14: 0.0282 | BK14: 74.404145 | BL14: 318 | BM14: 57 | BN14: 0.0498 | BO14: 77.386667 | BP14: 206 | BQ14: 69 | BR14: 21.3124 | BS14: 46.964285 | BT14: 401 | BU14: -19 | BV14: 159.01863 | BW14: 64.333575 | BX14: 164 | BY14: -71 | BZ14: 0.432873 | CA14: 19.594983 | CB14: 340 | CC14: -30 | CD14: 0.9656761 | CE14: 57.397651 | CF14: 203 | CG14: -49 | CH14: 0.7403781 | CI14: 37.115632 | CJ14: 248 | CK14: -42 | CL14: 0.043911 | CM14: 5.0846763 | CN14: 391 | CO14: -21 | CP14: 0.109555 | CQ14: 11.726951 | CR14: 174 | CS14: -15 | CT14: 0.1473974 | CU14: 16.679927 | CV14: 232 | CW14: 17 | CX14: 5.9 | CY14: 37.288136 | CZ14: 196 | DA14: 46 | DB14: 4.8 | DC14: 39.215686 | DD14: 220 | DE14: 8 | DF14: 3.9 | DG14: 53.571429 | DH14: 306 | DI14: -47 | DJ14: 472.0836 | DK14: 5.3451863 | DL14: 417 | DM14: -14 | DN14: 24.9035 | DO14: 76.861853 | DP14: 244 | DQ14: 28 | DR14: 0.0769231 | DS14: 91.758239 | DT14: 137 | DU14: -136 | DV14: 47.27788 | DW14: 86.376924 | DX14: 145 | DY14: 15 | DZ14: 11.414104 | EA14: 91.378951 | EB14: 132 | EC14: -4 | ED14: 0.39232609 | EE14: 99.65695 | EF14: 6 | EG14: 33 | EH14: 0.7808 | EI14: 76.23333 | EJ14: 341 | EK14: -235 | EL14: .n | EM14: 0 | EN14: 401 | EO14: -4 | EP14: .n | EQ14: 0 | ER14: 402 | ES14: -13 | ET14: .n | EU14: 0 | EV14: 387 | EW14: -8 | EX14: .n | EY14: 0 | EZ14: 368 | FA14: -4 | FB14: 1 | FC14: 100 | FD14: 1 | FE14: 393 | FF14: 1 | FG14: 0 | FH14: 327 | FI14: -326 | FJ14: 0.0199848 | FK14: 88.750541 | FL14: 34 | FM14: -3 | FN14: 0.4979272 | FO14: 54.287053 | FP14: 95 | FQ14: -3 | FR14: 0.0002064 | FS14: 98.927558 | FT14: 294 | FU14: 4 | FV14: 0.0070171 | FW14: 99.153019 | FX14: 270 | FY14: 3 | FZ14: 0.0001736 | GA14: 1.1849425 | GB14: 358 | GC14: -105 | GD14: 0.7693416 | GE14: 2.9789605 | GF14: 417 | GG14: -16 | GH14: 0.1550185 | GI14: 7.4730861 | GJ14: 383 | GK14: 8 | GL14: 0.3614031 | GM14: 60.673313 | GN14: 5 | GO14: 84 | GP14: 0 | GQ14: 0 | GR14: 232 | GS14: -7 | GT14: 0.0058599 | GU14: 4.2386307 | GV14: 318 | GW14: 38 | GX14: 2994.104 | GY14: 1.8015983 | GZ14: 398 | HA14: -11 | HB14: 12255.21 | HC14: 1.0786417 | HD14: 407 | HE14: -14 | HF14: 0.0707594 | HG14: 8.5339837 | HH14: 342 | HI14: -11 | HJ14: 0.3832605 | HK14: 15.330457 | HL14: 408 | HM14: -14 | HN14: 1898.03 | HO14: 13.948676 | HP14: 405 | HQ14: -13 | HR14: -0.1383388 | HS14: 47.004671 | HT14: 321 | HU14: -125 | HV14: 0.0629962 | HW14: 14.372918 | HX14: 280 | HY14: -44 | HZ14: 0.5403792 | IA14: 19.419221 | IB14: 228 | IC14: 13 | ID14: 0.2313273 | IE14: 48.8031 | IF14: 77 | IG14: -17 | IH14: 86.3755 | II14: 33.819934 | IJ14: 372 | IK14: -31 | IL14: 0.7833418 | IM14: 57.549038 | IN14: 125 | IO14: 7 | IP14: 8.443838 | IQ14: 10.986945 | IR14: 404 | IS14: 0 | IT14: 0.9153212 | IU14: 90.189085 | IV14: 214 | IW14: 190 | IX14: 0.9254269 | IY14: 87.401126 | IZ14: 323 | JA14: 81
A15: Boa Vista | B15: 0.7485116 | C15: 26.747101 | D15: 307 | E15: -26 | F15: 0.0848929 | G15: 24.650987 | H15: 203 | I15: 59 | J15: 0.4682 | K15: 49.964539 | L15: 210 | M15: 182 | N15: -0.0695 | O15: 33.462209 | P15: 107 | Q15: 81 | R15: 0.0952951 | S15: 78.196325 | T15: 202 | U15: 31 | V15: 0.0290539 | W15: 63.414166 | X15: 324 | Y15: 22 | Z15: 0.88997748 | AA15: 87.274156 | AB15: 176 | AC15: -115 | AD15: 13.3 | AE15: 93.212405 | AF15: 121 | AG15: -56 | AH15: 0.5209163 | AI15: 56.370051 | AJ15: 178 | AK15: 191 | AL15: 6.49 | AM15: 52.309783 | AN15: 245 | AO15: -5 | AP15: 1.2815 | AQ15: 65.990068 | AR15: 30 | AS15: 178 | AT15: 0.0635559 | AU15: 8.8043009 | AV15: 388 | AW15: -21 | AX15: 0.7610545 | AY15: 43.053141 | AZ15: 349 | BA15: -59 | BB15: 0.5910494 | BC15: 44.05214 | BD15: 403 | BE15: -9 | BF15: 115.74074 | BG15: 53.896604 | BH15: 360 | BI15: 27 | BJ15: 0.0123 | BK15: 90.880829 | BL15: 113 | BM15: -36 | BN15: 0.0332 | BO15: 86.24 | BP15: 50 | BQ15: 0 | BR15: 23.01955 | BS15: 41.570996 | BT15: 405 | BU15: -62 | BV15: 189.3811 | BW15: 48.944698 | BX15: 305 | BY15: 8 | BZ15: 0.3830641 | CA15: 13.43417 | CB15: 388 | CC15: -20 | CD15: 0.8661128 | CE15: 38.790165 | CF15: 383 | CG15: -78 | CH15: 0.686987 | CI15: 32.340441 | CJ15: 312 | CK15: -98 | CL15: 0.146365 | CM15: 16.948342 | CN15: 298 | CO15: -53 | CP15: 0.0155872 | CQ15: 0.99373388 | CR15: 411 | CS15: -76 | CT15: 0.0650008 | CU15: 7.1233455 | CV15: 361 | CW15: -40 | CX15: 5.7 | CY15: 33.898305 | CZ15: 238 | DA15: 4 | DB15: 4.4 | DC15: 31.372549 | DD15: 313 | DE15: 88 | DF15: 3.7 | DG15: 46.428571 | DH15: 347 | DI15: -19 | DJ15: 534.9054 | DK15: 45.125105 | DL15: 298 | DM15: -11 | DN15: 28.77969 | DO15: 73.142247 | DP15: 275 | DQ15: 3 | DR15: 0.2608696 | DS15: 72.049685 | DT15: 295 | DU15: -28 | DV15: 78.33988 | DW15: 76.202028 | DX15: 251 | DY15: -21 | DZ15: 22.733538 | EA15: 82.511773 | EB15: 292 | EC15: 28 | ED15: 26.352226 | EE15: 71.352174 | EF15: 378 | EG15: -52 | EH15: 0.7987 | EI15: 78.17413 | EJ15: 330 | EK15: -152 | EL15: 0.524 | EM15: 48.022599 | EN15: 338 | EO15: -8 | EP15: 0.6151 | EQ15: 24.68257 | ER15: 348 | ES15: -16 | ET15: 0.9243 | EU15: 92.395781 | EV15: 89 | EW15: 4 | EX15: 1.1126 | EY15: 58.407265 | EZ15: 12 | FA15: 26 | FB15: 1 | FC15: 100 | FD15: 1 | FE15: 254 | FF15: 1 | FG15: 0 | FH15: 327 | FI15: 44 | FJ15: 0.169361 | FK15: 87.422164 | FL15: 352 | FM15: -14 | FN15: 0.0443125 | FO15: 4.8312184 | FP15: 409 | FQ15: -28 | FR15: 5.85e-05 | FS15: 99.696038 | FT15: 247 | FU15: 9 | FV15: 0.0910959 | FW15: 89.004507 | FX15: 395 | FY15: -11 | FZ15: 0.002209 | GA15: 15.077984 | GB15: 112 | GC15: 190 | GD15: 0.4338419 | GE15: 51.04053 | GF15: 248 | GG15: 3 | GH15: 0.345109 | GI15: 28.28832 | GJ15: 194 | GK15: 36 | GL15: 0.1980776 | GM15: 43.851761 | GN15: 30 | GO15: 370 | GP15: 4.886478 | GQ15: 3.0735311 | GR15: 102 | GS15: -23 | GT15: 0.0090207 | GU15: 6.596177 | GV15: 235 | GW15: -36 | GX15: 16384.9 | GY15: 10.74651 | GZ15: 117 | HA15: -5 | HB15: 30906.19 | HC15: 6.5412878 | HD15: 252 | HE15: -10 | HF15: 0.0964516 | HG15: 9.9334039 | HH15: 291 | HI15: -10 | HJ15: 1.553447 | HK15: 45.872883 | HL15: 253 | HM15: 13 | HN15: 2987.9172 | HO15: 32.545044 | HP15: 175 | HQ15: -43 | HR15: -0.1333877 | HS15: 47.505645 | HT15: 316 | HU15: 85 | HV15: 0.0539711 | HW15: 12.0979 | HX15: 329 | HY15: -3 | HZ15: 0.5347507 | IA15: 19.20296 | IB15: 232 | IC15: -16 | ID15: 0.2519059 | IE15: 54.600428 | IF15: 48 | IG15: 10 | IH15: 105.6814 | II15: 51.479422 | IJ15: 197 | IK15: -103 | IL15: 0.6738374 | IM15: 33.142217 | IN15: 330 | IO15: 29 | IP15: 19.60487 | IQ15: 28.214409 | IR15: 323 | IS15: 8 | IT15: 0.9505728 | IU15: 94.535545 | IV15: 161 | IW15: -14 | IX15: 0.9776406 | IY15: 97.49362 | IZ15: 54 | JA15: 48
