Workbook
Name AMBIENTAL: #REF!
Name CLP_2025: #REF!
Name DADOS_2025: #REF!
Name GOVERNANÇA: #REF!
Name INDICE_INDICADOR: Matriz!$K$2:$K$80
Name MUNICIPIO: #REF!
Name NOME_INDICADOR: Matriz!$D$2:$D$80
Name NOTA_INDICADOR: #REF!
Name ODS_1: #REF!
Name ODS_10: #REF!
Name ODS_11: #REF!
Name ODS_12: #REF!
Name ODS_13: #REF!
Name ODS_14: #REF!
Name ODS_15: #REF!
Name ODS_16: #REF!
Name ODS_17: #REF!
Name ODS_2: #REF!
Name ODS_3: #REF!
Name ODS_4: #REF!
Name ODS_5: #REF!
Name ODS_6: #REF!
Name ODS_7: #REF!
Name ODS_8: #REF!
Name ODS_9: #REF!
Name SOCIAL: #REF!

Sheet Matriz
B2: Dimensão | C2: Pilar | D2: Indicador | E2: Descrição do indicador | F2: Classificação | K2: ÍNDICE DO INDICADOR
F3: ODS | G3: ESG | H3: Metas ODS
B4: Instituições | C4: Sustentabilidade Fiscal | D4: Dependência fiscal | E4: Razão entre as transferências correntes realizadas e a receita corrente total da administração pública municipal | F4: sixteen, seventeen | G4: G | H4: 16.6 | 17.1 | K4: =SUMIFS(#REF!,#REF!,Matriz!D4) -> #REF!
B5: Instituições | C5: Sustentabilidade Fiscal | D5: Taxa de investimento | E5: Razão entre os investimentos liquidados e a receita corrente líquida da administração pública municipal | F5: ten, seventeen | G5: G | H5: 10.b | 17.1 | 17.3 | K5: =SUMIFS(#REF!,#REF!,Matriz!D5) -> #REF!
B6: Instituições | C6: Sustentabilidade Fiscal | D6: Despesa com pessoal | E6: Razão entre a despesa total com pessoal e a receita corrente líquida ajustada da administração pública municipal | F6: onze, sixteen, seventeen | G6: G | H6: 11.a | 16.6| 17.3 | K6: =SUMIFS(#REF!,#REF!,Matriz!D6) -> #REF!
B7: Instituições | C7: Sustentabilidade Fiscal | D7: Endividamento | E7: Razão entre a dívida consolidada líquida e a receita corrente líquida da administração pública municipal | F7: onze, sixteen, seventeen | G7: G | H7: 11.a |16.6|17.1 | K7: =SUMIFS(#REF!,#REF!,Matriz!D7) -> #REF!
B9: Instituições | C9: Funcionamento da máquina pública | D9: Custo da função administrativa | E9: Razão entre o custo da função administrativa do poder executivo e a receita corrente líquida da administração pública municipal | F9: onze, sixteen, seventeen | G9: G | H9: 11.a | 16.6 | 17.4 | K9: =SUMIFS(#REF!,#REF!,Matriz!D9) -> #REF!
B10: Instituições | C10: Funcionamento da máquina pública | D10: Custo da função legislativa | E10: Razão entre o custo da função legislativa e a receita corrente líquida da administração pública municipal | F10: onze, sixteen, seventeen | G10: G | H10: 11.a | 16.6 | 17.5 | K10: =SUMIFS(#REF!,#REF!,Matriz!D10) -> #REF!
B11: Instituições | C11: Funcionamento da máquina pública | D11: Qualidade da informação contábil e fiscal | E11: Nota geral do município no ranking da qualidade da informação contábil e fiscal dos municípios no Siconfi | F11: sixteen | G11: G | H11: 16.10 | K11: =SUMIFS(#REF!,#REF!,Matriz!D11) -> #REF!
B12: Instituições | C12: Funcionamento da máquina pública | D12: Tempo para abertura de empresas | E12: Tempo médio para abertura de empresas levando-se em consideração o tempo na etapa de viabilidade e o tempo na etapa de registro | F12: oito, nove | G12: G | H12: 8.3 | 9.3 | K12: =SUMIFS(#REF!,#REF!,Matriz!D12) -> #REF!
B13: Instituições | C13: Funcionamento da máquina pública | D13: Qualificação do servidor | E13: Razão entre o número de servidores públicos municipais da administração direta com ensino superior e o número total servidores públicos municipais da administração direta | F13: quatro, sixteen | G13: SG | H13: 4.b | 16.7 | K13: =SUMIFS(#REF!,#REF!,Matriz!D13) -> #REF!
B14: Instituições | C14: Funcionamento da máquina pública | D14: Transparência municipal | E14: Nota na Escala Brasil Transparente 360º da administração pública municipal, abrangendo as notas em transparência passiva e transparência ativa | F14: onze, sixteen | G14: G | H14: 11.a | 16.10 | K14: =SUMIFS(#REF!,#REF!,Matriz!D14) -> #REF!
B16: Sociedade | C16: Acesso à saúde | D16: Cobertura da atenção primária | E16: Razão entre a população cadastrada por equipes da Estratégia de Saúde da Família (eSF) e da Atenção Primária (eAP) financiadas pelo Ministério da Saúde no município e a população do município | F16: três | G16: SG | H16: 3.7 | 3.8 | K16: =SUMIFS(#REF!,#REF!,Matriz!D16) -> #REF!
B17: Sociedade | C17: Acesso à saúde | D17: Cobertura de saúde suplementar | E17: Razão entre a população do município beneficiária de plano de saúde privado e a população total do município | F17: três | G17: S | H17: 3.8 | K17: =SUMIFS(#REF!,#REF!,Matriz!D17) -> #REF!
... B80: Economia | C80: Telecomunicações | D80: Acessos de banda larga - Alta velocidade | E80: Razão entre o número de acessos de conexão banda larga com faixa de velocidade superior a 34 megabytes e o número de acessos de conexão banda larga | F80: um, cinco, nove | G80: SG | H80: 1.4 | 5.b | 9.c | K80: =SUMIFS(#REF!,#REF!,Matriz!D80) -> #REF!

Sheet Ranking ESG
D1: Ambiental | L1: Social | T1: Governança | AB1: ESG
A2: Município | B2: Estado | C2: Região | D2: Ambiental | E2: Ambiental normalizado | F2: Posição Ambiental 2025 | G2: Posição Ambiental 2024 | H2: Posição Ambiental 2023 | I2: Posição Ambiental 2022 | J2: Posição Ambiental 2021 | K2: Delta posição E | L2: Social | M2: Social normalizado | N2: Posição Social 2025 | O2: Posição Social 2024 | P2: Posição Social 2023 | Q2: Posição Social 2022 | R2: Posição Social 2021 | S2: Delta posição S | T2: Governança | U2: Governança normalizado | V2: Posição Governança 2025 | W2: Posição Governança 2024 | X2: Posição Governança 2023 | Y2: Posição Governança 2022 | Z2: Posição Governança 2021 | AA2: Delta posição G | AB2: Média ESG | AC2: Ranking ESG 2025 | AD2: Ranking ESG 2024 | AE2: Ranking ESG 2023 | AF2: Ranking ESG 2022 | AG2: Ranking 2021 | AH2: Delta posição ESG
A3: Maringá | B3: PR | C3: Sul | D3: 887.18934 | E3: 91.31359 | F3: 26 | G3: 81 | H3: 148 | I3: 43 | J3: 28 | K3: 55 | L3: 2646.0571 | M3: 92.185875 | N3: 5 | O3: 7 | P3: 16 | Q3: 14 | R3: 11 | S3: 2 | T3: 2593.7 | U3: 100 | V3: 1 | W3: 4 | X3: 6 | Y3: 14 | Z3: 21 | AA3: 3 | AB3: 94.499822 | AC3: 1 | AD3: 6 | AE3: 21 | AF3: 11 | AG3: 12 | AH3: 5
A4: Votuporanga | B4: SP | C4: Sudeste | D4: 869.09419 | E4: 88.022767 | F4: 61 | G4: 69 | H4: 45 | I4: 59 | J4: 39 | K4: 8 | L4: 2730.216 | M4: 98.0048 | N4: 2 | O4: 10 | P4: 14 | Q4: 8 | R4: 6 | S4: 8 | T4: 2521.8327 | U4: 94.614451 | V4: 8 | W4: 18 | X4: 26 | Y4: 28 | Z4: 24 | AA4: 10 | AB4: 93.547339 | AC4: 2 | AD4: 18 | AE4: 16 | AF4: 13 | AG4: 11 | AH4: 16
A5: Jaraguá do Sul | B5: SC | C5: Sul | D5: 904.41137 | E5: 94.445625 | F5: 10 | G5: 37 | H5: 25 | I5: 46 | J5: 36 | K5: 27 | L5: 2560.8878 | M5: 86.297097 | N5: 20 | O5: 11 | P5: 36 | Q5: 31 | R5: 23 | S5: -9 | T5: 2544.1535 | U5: 96.287112 | V5: 7 | W5: 6 | X5: 13 | Y5: 13 | Z5: 7 | AA5: -1 | AB5: 92.343278 | AC5: 3 | AD5: 8 | AE5: 13 | AF5: 14 | AG5: 10 | AH5: 5
A6: Florianópolis | B6: SC | C6: Sul | D6: 844.89472 | E6: 83.621798 | F6: 112 | G6: 130 | H6: 87 | I6: 142 | J6: 254 | K6: 18 | L6: 2683.0638 | M6: 94.744597 | N6: 3 | O6: 4 | P6: 3 | Q6: 3 | R6: 4 | S6: 1 | T6: 2560.2093 | U6: 97.490291 | V6: 4 | W6: 8 | X6: 5 | Y6: 10 | Z6: 9 | AA6: 4 | AB6: 91.952229 | AC6: 4 | AD6: 14 | AE6: 8 | AF6: 9 | AG6: 39 | AH6: 10
A7: São Caetano do Sul | B7: SP | C7: Sudeste | D7: 869.83734 | E7: 88.157918 | F7: 55 | G7: 50 | H7: 43 | I7: 51 | J7: 25 | K7: -5 | L7: 2759.0725 | M7: 100 | N7: 1 | O7: 1 | P7: 1 | Q7: 1 | R7: 1 | S7: 0 | T7: 2421.3223 | U7: 87.082463 | V7: 32 | W7: 14 | X7: 12 | Y7: 11 | Z7: 3 | AA7: -18 | AB7: 91.746794 | AC7: 5 | AD7: 2 | AE7: 1 | AF7: 1 | AG7: 1 | AH7: -3
A8: Campinas | B8: SP | C8: Sudeste | D8: 882.05031 | E8: 90.378994 | F8: 30 | G8: 22 | H8: 46 | I8: 56 | J8: 54 | K8: -8 | L8: 2567.1054 | M8: 86.72699 | N8: 17 | O8: 12 | P8: 10 | Q8: 16 | R8: 17 | S8: -5 | T8: 2555.8973 | U8: 97.167159 | V8: 6 | W8: 5 | X8: 3 | Y8: 3 | Z8: 6 | AA8: -1 | AB8: 91.424381 | AC8: 6 | AD8: 4 | AE8: 4 | AF8: 6 | AG8: 9 | AH8: -2
A9: Paulínia | B9: SP | C9: Sudeste | D9: 873.65354 | E9: 88.85194 | F9: 48 | G9: 28 | H9: 37 | I9: 54 | J9: 46 | K9: -20 | L9: 2636.5404 | M9: 91.527876 | N9: 7 | O9: 6 | P9: 17 | Q9: 34 | R9: 16 | S9: -1 | T9: 2496.4092 | U9: 92.709279 | V9: 11 | W9: 17 | X9: 45 | Y9: 34 | Z9: 67 | AA9: 6 | AB9: 91.029698 | AC9: 7 | AD9: 11 | AE9: 20 | AF9: 30 | AG9: 30 | AH9: 4
A10: Curitiba | B10: PR | C10: Sul | D10: 853.6129 | E10: 85.207306 | F10: 96 | G10: 84 | H10: 18 | I10: 25 | J10: 20 | K10: -12 | L10: 2597.464 | M10: 88.826052 | N10: 10 | O10: 23 | P10: 26 | Q10: 30 | R10: 15 | S10: 13 | T10: 2556.643 | U10: 97.223043 | V10: 5 | W10: 9 | X10: 7 | Y10: 2 | Z10: 4 | AA10: 4 | AB10: 90.4188 | AC10: 8 | AD10: 17 | AE10: 7 | AF10: 5 | AG10: 4 | AH10: 9
A11: Indaiatuba | B11: SP | C11: Sudeste | D11: 869.41053 | E11: 88.080297 | F11: 58 | G11: 63 | H11: 175 | I11: 130 | J11: 104 | K11: 5 | L11: 2597.4099 | M11: 88.822307 | N11: 11 | O11: 28 | P11: 11 | Q11: 19 | R11: 21 | S11: 17 | T11: 2490.3682 | U11: 92.256579 | V11: 12 | W11: 12 | X11: 4 | Y11: 9 | Z11: 16 | AA11: 0 | AB11: 89.719728 | AC11: 9 | AD11: 20 | AE11: 25 | AF11: 22 | AG11: 22 | AH11: 11
A12: São Paulo | B12: SP | C12: Sudeste | D12: 870.41383 | E12: 88.262758 | F12: 54 | G12: 38 | H12: 33 | I12: 47 | J12: 64 | K12: -16 | L12: 2495.5447 | M12: 81.779135 | N12: 41 | O12: 25 | P12: 24 | Q12: 36 | R12: 22 | S12: -16 | T12: 2576.9239 | U12: 98.742838 | V12: 2 | W12: 2 | X12: 2 | Y12: 5 | Z12: 2 | AA12: 0 | AB12: 89.594911 | AC12: 10 | AD12: 10 | AE12: 5 | AF12: 10 | AG12: 8 | AH12: 0
A13: Balneário Camboriú | B13: SC | C13: Sul | D13: 932.61436 | E13: 99.574682 | F13: 2 | G13: 3 | H13: 2 | I13: 2 | J13: 2 | K13: 1 | L13: 2409.4036 | M13: 75.82316 | N13: 82 | O13: 41 | P13: 51 | Q13: 70 | R13: 79 | S13: -41 | T13: 2501.9072 | U13: 93.121283 | V13: 10 | W13: 3 | X13: 1 | Y13: 4 | Z13: 5 | AA13: -7 | AB13: 89.506375 | AC13: 11 | AD13: 3 | AE13: 2 | AF13: 4 | AG13: 7 | AH13: -8
A14: Vitória | B14: ES | C14: Sudeste | D14: 848.64505 | E14: 84.303842 | F14: 104 | G14: 99 | H14: 183 | I14: 85 | J14: 81 | K14: -5 | L14: 2639.7524 | M14: 91.749955 | N14: 6 | O14: 19 | P14: 31 | Q14: 42 | R14: 7 | S14: 13 | T14: 2487.7366 | U14: 92.05938 | V14: 13 | W14: 19 | X14: 28 | Y14: 65 | Z14: 11 | AA14: 6 | AB14: 89.371059 | AC14: 12 | AD14: 25 | AE14: 63 | AF14: 53 | AG14: 14 | AH14: 13
... A30: Presidente Prudente | B30: SP | C30: Sudeste | D30: 887.24208 | E30: 91.323181 | F30: 25 | G30: 21 | H30: 22 | I30: 78 | J30: 57 | K30: -4 | L30: 2526.876 | M30: 83.945443 | N30: 28 | O30: 49 | P30: 56 | Q30: 49 | R30: 32 | S30: 21 | T30: 2375.0607 | U30: 83.615742 | V30: 60 | W30: 60 | X30: 77 | Y30: 69 | Z30: 55 | AA30: 0 | AB30: 86.294789 | AC30: 28 | AD30: 34 | AE30: 39 | AF30: 55 | AG30: 32 | AH30: 6
A31: Matão | B31: SP | C31: Sudeste | D31: 856.75435 | E31: 85.778617 | F31: 88 | K31: Novo município | L31: 2559.545 | M31: 86.204252 | N31: 21 | S31: Novo município | T31: 2406.4061 | U31: 85.96468 | V31: 41 | AA31: Novo município | AB31: 85.982516 | AC31: 29 | AH31: Novo município
A32: Pinhais | B32: PR | C32: Sul | D32: 856.68786 | E32: 85.766525 | F32: 89 | G32: 88 | H32: 4 | I32: 9 | J32: 9 | K32: -1 | L32: 2543.8492 | M32: 85.119011 | N32: 24 | O32: 55 | P32: 67 | Q32: 86 | R32: 92 | S32: 31 | T32: 2410.7513 | U32: 86.290304 | V32: 40 | W32: 48 | X32: 20 | Y32: 24 | Z32: 95 | AA32: 8 | AB32: 85.72528 | AC32: 30 | AD32: 45 | AE32: 11 | AF32: 34 | AG32: 50 | AH32: 15
A33: São João da Boa Vista | B33: SP | C33: Sudeste | D33: 856.31954 | E33: 85.699541 | F33: 90 | G33: 31 | H33: 60 | I33: 36 | J33: 35 | K33: -59 | L33: 2574.3806 | M33: 87.230016 | N33: 16 | O33: 18 | P33: 13 | Q33: 12 | R33: 39 | S33: 2 | T33: 2382.9809 | U33: 84.209257 | V33: 55 | W33: 32 | X33: 44 | Y33: 43 | Z33: 35 | AA33: -23 | AB33: 85.712938 | AC33: 31 | AD33: 19 | AE33: 23 | AF33: 15 | AG33: 24 | AH33: -12
A34: Niterói | B34: RJ | C34: Sudeste | D34: 911.08716 | E34: 95.659699 | F34: 7 | G34: 6 | H34: 95 | I34: 5 | J34: 3 | K34: -1 | L34: 2345.6478 | M34: 71.41495 | N34: 121 | O34: 118 | P34: 128 | Q34: 130 | R34: 130 | S34: -3 | T34: 2454.2435 | U34: 89.54949 | V34: 22 | W34: 34 | X34: 97 | Y34: 177 | Z34: 81 | AA34: 12 | AB34: 85.54138 | AC34: 32 | AD34: 30 | AE34: 94 | AF34: 86 | AG34: 54 | AH34: -2
A35: Pato Branco | B35: PR | C35: Sul | D35: 881.15597 | E35: 90.216348 | F35: 32 | G35: 40 | H35: 153 | I35: 38 | J35: 18 | K35: 8 | L35: 2507.8085 | M35: 82.627081 | N35: 36 | O35: 17 | P35: 40 | Q35: 25 | R35: 52 | S35: -19 | T35: 2375.0129 | U35: 83.612158 | V35: 61 | W35: 13 | X35: 33 | Y35: 39 | Z35: 75 | AA35: -48 | AB35: 85.485196 | AC35: 33 | AD35: 13 | AE35: 60 | AF35: 21 | AG35: 42 | AH35: -20
A36: Caxias do Sul | B36: RS | C36: Sul | D36: 862.88031 | E36: 86.892697 | F36: 72 | G36: 91 | H36: 178 | I36: 103 | J36: 123 | K36: 19 | L36: 2440.3229 | M36: 77.960984 | N36: 60 | O36: 109 | P36: 130 | Q36: 91 | R36: 88 | S36: 49 | T36: 2477.8591 | U36: 91.319185 | V36: 15 | W36: 38 | X36: 60 | Y36: 41 | Z36: 33 | AA36: 23 | AB36: 85.390955 | AC36: 34 | AD36: 62 | AE36: 114 | AF36: 66 | AG36: 69 | AH36: 28
A37: Piracicaba | B37: SP | C37: Sudeste | D37: 853.15779 | E37: 85.124538 | F37: 99 | G37: 134 | H37: 73 | I37: 121 | J37: 112 | K37: 35 | L37: 2500.2544 | M37: 82.104774 | N37: 39 | O37: 40 | P37: 25 | Q37: 18 | R37: 29 | S37: 1 | T37: 2424.4578 | U37: 87.317429 | V37: 31 | W37: 56 | X37: 32 | Y37: 31 | Z37: 39 | AA37: 25 | AB37: 84.848914 | AC37: 35 | AD37: 55 | AE37: 30 | AF37: 40 | AG37: 40 | AH37: 20
A38: Bragança Paulista | B38: SP | C38: Sudeste | D38: 857.75289 | E38: 85.960214 | F38: 86 | G38: 143 | H38: 69 | I38: 22 | J38: 50 | K38: 57 | L38: 2524.3981 | M38: 83.77412 | N38: 29 | O38: 63 | P38: 46 | Q38: 50 | R38: 84 | S38: 34 | T38: 2389.3454 | U38: 84.686196 | V38: 52 | W38: 97 | X38: 56 | Y38: 56 | Z38: 74 | AA38: 45 | AB38: 84.806843 | AC38: 36 | AD38: 87 | AE38: 46 | AF38: 38 | AG38: 66 | AH38: 51
A39: Sorocaba | B39: SP | C39: Sudeste | D39: 869.34391 | E39: 88.068182 | F39: 59 | G39: 70 | H39: 17 | I39: 76 | J39: 79 | K39: 11 | L39: 2485.5955 | M39: 81.091224 | N39: 48 | O39: 65 | P39: 70 | Q39: 53 | R39: 63 | S39: 17 | T39: 2396.4271 | U39: 85.216881 | V39: 48 | W39: 77 | X39: 81 | Y39: 63 | Z39: 48 | AA39: 29 | AB39: 84.792096 | AC39: 37 | AD39: 52 | AE39: 45 | AF39: 51 | AG39: 55 | AH39: 15
A40: Cascavel | B40: PR | C40: Sul | D40: 860.10841 | E40: 86.388593 | F40: 78 | G40: 46 | H40: 30 | I40: 44 | J40: 40 | K40: -32 | L40: 2461.9675 | M40: 79.457536 | N40: 56 | O40: 80 | P40: 61 | Q40: 65 | R40: 43 | S40: 24 | T40: 2429.9303 | U40: 87.727525 | V40: 27 | W40: 37 | X40: 25 | Y40: 26 | Z40: 20 | AA40: 10 | AB40: 84.524552 | AC40: 38 | AD40: 40 | AE40: 27 | AF40: 41 | AG40: 18 | AH40: 2
A41: Uberlândia | B41: MG | C41: Sudeste | D41: 873.403 | E41: 88.806376 | F41: 49 | G41: 18 | H41: 152 | I41: 32 | J41: 26 | K41: -31 | L41: 2417.2159 | M41: 76.363315 | N41: 79 | O41: 22 | P41: 27 | Q41: 23 | R41: 45 | S41: -57 | T41: 2430.1437 | U41: 87.743519 | V41: 25 | W41: 7 | X41: 8 | Y41: 6 | Z41: 14 | AA41: -18 | AB41: 84.304403 | AC41: 39 | AD41: 7 | AE41: 31 | AF41: 8 | AG41: 17 | AH41: -32
A42: São Bento do Sul | B42: SC | C42: Sul | D42: 815.49007 | E42: 78.274205 | F42: 164 | G42: 216 | H42: 273 | I42: 209 | J42: 192 | K42: 52 | L42: 2504.9385 | M42: 82.428642 | N42: 38 | O42: 35 | P42: 53 | Q42: 61 | R42: 74 | S42: -3 | T42: 2485.2421 | U42: 91.872446 | V42: 14 | W42: 45 | X42: 57 | Y42: 64 | Z42: 53 | AA42: 31 | AB42: 84.191765 | AC42: 40 | AD42: 84 | AE42: 123 | AF42: 100 | AG42: 100 | AH42: 44
A43: Franca | B43: SP | C43: Sudeste | D43: 895.94366 | E43: 92.90567 | F43: 17 | G43: 13 | H43: 115 | I43: 7 | J43: 7 | K43: -4 | L43: 2432.8333 | M43: 77.443138 | N43: 67 | O43: 36 | P43: 39 | Q43: 80 | R43: 47 | S43: -31 | T43: 2356.0824 | U43: 82.193553 | V43: 70 | W43: 47 | X43: 23 | Y43: 57 | Z43: 17 | AA43: -23 | AB43: 84.180787 | AC43: 41 | AD43: 21 | AE43: 44 | AF43: 39 | AG43: 13 | AH43: -20
... A49: Catanduva | B49: SP | C49: Sudeste | D49: 896.24093 | E49: 92.959731 | F49: 16 | G49: 14 | H49: 10 | I49: 29 | J49: 27 | K49: -2 | L49: 2487.3212 | M49: 81.210543 | N49: 43 | O49: 13 | P49: 23 | Q49: 20 | R49: 12 | S49: -30 | T49: 2280.5038 | U49: 76.529892 | V49: 123 | W49: 55 | X49: 73 | Y49: 82 | Z49: 57 | AA49: -68 | AB49: 83.566722 | AC49: 47 | AD49: 16 | AE49: 19 | AF49: 35 | AG49: 20 | AH49: -31
A50: Itapema | B50: SC | C50: Sul | D50: 896.38269 | E50: 92.985512 | F50: 15 | K50: Novo município | L50: 2373.2572 | M50: 73.323918 | N50: 103 | S50: Novo município | T50: 2385.1946 | U50: 84.375152 | V50: 54 | AA50: Novo município | AB50: 83.561527 | AC50: 48 | AH50: Novo município
A51: Poá | B51: SP | C51: Sudeste | D51: 912.52624 | E51: 95.921413 | F51: 6 | G51: 76 | H51: 28 | I51: 68 | J51: 59 | K51: 70 | L51: 2358.9778 | M51: 72.336614 | N51: 111 | O51: 119 | P51: 149 | Q51: 140 | R51: 147 | S51: 8 | T51: 2358.8808 | U51: 82.403262 | V51: 69 | W51: 107 | X51: 115 | Y51: 91 | Z51: 158 | AA51: 38 | AB51: 83.553763 | AC51: 49 | AD51: 86 | AE51: 81 | AF51: 98 | AG51: 113 | AH51: 37
A52: Araras | B52: SP | C52: Sudeste | D52: 855.72403 | E52: 85.591241 | F52: 91 | G52: 110 | H52: 39 | I52: 220 | J52: 174 | K52: 19 | L52: 2500.1635 | M52: 82.098485 | N52: 40 | O52: 24 | P52: 18 | Q52: 33 | R52: 24 | S52: -16 | T52: 2348.8434 | U52: 81.651086 | V52: 75 | W52: 64 | X52: 35 | Y52: 98 | Z52: 88 | AA52: -11 | AB52: 83.113604 | AC52: 50 | AD52: 44 | AE52: 18 | AF52: 107 | AG52: 84 | AH52: -6
A53: Avaré | B53: SP | C53: Sudeste | D53: 871.9887 | E53: 88.549168 | F53: 51 | G53: 44 | H53: 21 | I53: 17 | J53: 15 | K53: -7 | L53: 2474.4928 | M53: 80.323559 | N53: 50 | O53: 126 | P53: 75 | Q53: 68 | R53: 58 | S53: 76 | T53: 2316.7687 | U53: 79.24749 | V53: 95 | W53: 195 | X53: 149 | Y53: 112 | Z53: 112 | AA53: 100 | AB53: 82.706739 | AC53: 51 | AD53: 105 | AE53: 61 | AF53: 61 | AG53: 52 | AH53: 54
A54: São José dos Pinhais | B54: PR | C54: Sul | D54: 869.11229 | E54: 88.026059 | F54: 60 | G54: 54 | H54: 7 | I54: 41 | J54: 38 | K54: -6 | L54: 2378.6463 | M54: 73.696532 | N54: 100 | O54: 188 | P54: 148 | Q54: 176 | R54: 133 | S54: 88 | T54: 2411.9188 | U54: 86.377791 | V54: 39 | W54: 100 | X54: 127 | Y54: 105 | Z54: 79 | AA54: 61 | AB54: 82.700127 | AC54: 52 | AD54: 112 | AE54: 69 | AF54: 116 | AG54: 80 | AH54: 60
A55: Francisco Beltrão | B55: PR | C55: Sul | D55: 844.6694 | E55: 83.580822 | F55: 114 | G55: 67 | H55: 167 | I55: 39 | J55: 55 | K55: -47 | L55: 2436.5969 | M55: 77.703358 | N55: 62 | O55: 69 | P55: 68 | Q55: 96 | R55: 53 | S55: 7 | T55: 2400.8657 | U55: 85.549497 | V55: 42 | W55: 35 | X55: 43 | Y55: 61 | Z55: 46 | AA55: -7 | AB55: 82.277892 | AC55: 53 | AD55: 42 | AE55: 79 | AF55: 60 | AG55: 37 | AH55: -11
A56: Resende | B56: RJ | C56: Sudeste | D56: 909.61244 | E56: 95.391502 | F56: 8 | G56: 15 | H56: 6 | I56: 13 | J56: 33 | K56: 7 | L56: 2343.816 | M56: 71.288293 | N56: 123 | O56: 129 | P56: 119 | Q56: 153 | R56: 116 | S56: 6 | T56: 2323.3291 | U56: 79.739108 | V56: 91 | W56: 108 | X56: 109 | Y56: 145 | Z56: 91 | AA56: 17 | AB56: 82.139634 | AC56: 54 | AD56: 58 | AE56: 54 | AF56: 94 | AG56: 78 | AH56: 4
A57: Atibaia | B57: SP | C57: Sudeste | D57: 811.70382 | E57: 77.58563 | F57: 173 | G57: 205 | H57: 79 | I57: 125 | J57: 126 | K57: 32 | L57: 2512.7354 | M57: 82.967735 | N57: 35 | O57: 26 | P57: 37 | Q57: 26 | R57: 35 | S57: -9 | T57: 2398.863 | U57: 85.399423 | V57: 43 | W57: 46 | X57: 30 | Y57: 47 | Z57: 51 | AA57: 3 | AB57: 81.984263 | AC57: 55 | AD57: 70 | AE57: 35 | AF57: 48 | AG57: 59 | AH57: 15
A58: Toledo | B58: PR | C58: Sul | D58: 845.95382 | E58: 83.814409 | F58: 109 | G58: 56 | H58: 166 | I58: 55 | J58: 60 | K58: -53 | L58: 2472.8659 | M58: 80.211072 | N58: 51 | O58: 30 | P58: 58 | Q58: 64 | R58: 38 | S58: -21 | T58: 2352.0086 | U58: 81.888275 | V58: 74 | W58: 26 | X58: 36 | Y58: 44 | Z58: 30 | AA58: -48 | AB58: 81.971252 | AC58: 56 | AD58: 24 | AE58: 73 | AF58: 44 | AG58: 28 | AH58: -32
A59: Barueri | B59: SP | C59: Sudeste | D59: 751.44035 | E59: 66.625986 | F59: 258 | G59: 192 | H59: 102 | I59: 153 | J59: 143 | K59: -66 | L59: 2621.4397 | M59: 90.483781 | N59: 9 | O59: 2 | P59: 2 | Q59: 2 | R59: 2 | S59: -7 | T59: 2430.0646 | U59: 87.737591 | V59: 26 | W59: 15 | X59: 9 | Y59: 1 | Z59: 1 | AA59: -11 | AB59: 81.615786 | AC59: 57 | AD59: 32 | AE59: 10 | AF59: 3 | AG59: 3 | AH59: -25
A60: Ponta Grossa | B60: PR | C60: Sul | D60: 880.94836 | E60: 90.178591 | F60: 34 | G60: 43 | H60: 156 | I60: 58 | J60: 69 | K60: 9 | L60: 2379.7936 | M60: 73.77586 | N60: 98 | O60: 98 | P60: 106 | Q60: 93 | R60: 82 | S60: 0 | T60: 2333.4249 | U60: 80.495661 | V60: 83 | W60: 91 | X60: 113 | Y60: 136 | Z60: 151 | AA60: 8 | AB60: 81.483371 | AC60: 58 | AD60: 57 | AE60: 119 | AF60: 84 | AG60: 98 | AH60: -1
...

Sheet Ranking ODS
D1: ODS 1 | L1: ODS 2 | T1: ODS 3 | AB1: ODS 4 | AJ1: ODS 5 | AR1: ODS 6 | AZ1: ODS 7 | BA1: ODS 8 | BI1: ODS 9 | BQ1: ODS 10 | BY1: ODS 11 | CG1: ODS 12 | CO1: ODS 13 | CW1: ODS 14 | DE1: ODS 15 | DM1: ODS 16 | DU1: ODS 17 | EC1: ODS
A2: Município | B2: Estado | C2: Região | D2: ODS 1 | E2: ODS 1 normalizado | F2: Posição ODS 1 2025 | G2: Posição ODS 1 2024 | H2: Posição ODS 1 2023 | I2: Posição ODS 1 2022 | J2: Posição ODS 1 2021 | K2: Delta posição ODS 1 | L2: ODS 2 | M2: ODS 2 normalizado | N2: Posição ODS 2 2025 | O2: Posição ODS 2 2024 | P2: Posição ODS 2 2023 | Q2: Posição ODS 2 2022 | R2: Posição ODS 2 2021 | S2: Delta posição ODS 2 | T2: ODS 3 | U2: ODS 3 normalizado | V2: Posição ODS 3 2025 | W2: Posição ODS 3 2024 | X2: Posição ODS 3 2023 | Y2: Posição ODS 3 2022 | Z2: Posição ODS 3 2021 | AA2: Delta posição ODS 3 | AB2: ODS 4 | AC2: ODS 4 normalizado | AD2: Posição ODS 4 2025 | AE2: Posição ODS 4 2024 | AF2: Posição ODS 4 2023 | AG2: Posição ODS 4 2022 | AH2: Posição ODS 4 2021 | AI2: Delta posição ODS 4 | AJ2: ODS 5 | AK2: ODS 5 normalizado | AL2: Posição ODS 5 2025 | AM2: Posição ODS 5 2024 | AN2: Posição ODS 5 2023 | AO2: Posição ODS 5 2022 | AP2: Posição ODS 5 2021 | AQ2: Delta posição ODS 5 | AR2: ODS 6 | AS2: ODS 6 normalizado | AT2: Posição ODS 6 2025 | AU2: Posição ODS 6 2024 | AV2: Posição ODS 6 2023 | AW2: Posição ODS 6 2022 | AX2: Posição ODS 6 2021 | AY2: Delta posição ODS 6 | AZ2: ODS 7 | BA2: ODS 8 | BB2: ODS 8 normalizado | BC2: Posição ODS 8 2025 | BD2: Posição ODS 8 2024 | BE2: Posição ODS 8 2023 | BF2: Posição ODS 8 2022 | BG2: Posição ODS 8 2021 | BH2: Delta posição ODS 8 | BI2: ODS 9 | BJ2: ODS 9 normalizado | BK2: Posição ODS 9 2025 | BL2: Posição ODS 9 2024 | BM2: Posição ODS 9 2023 | BN2: Posição ODS 9 2022 | BO2: Posição ODS 9 2021 | BP2: Delta posição ODS 9 | BQ2: ODS 10 | BR2: ODS 10 normalizado | BS2: Posição ODS 10 2024 | BT2: Posição ODS 10 20242 | BU2: Posição ODS 10 2023 | BV2: Posição ODS 10 2022 | BW2: Posição ODS 10 2021 | BX2: Delta posição ODS 10 | BY2: ODS 11 | BZ2: ODS 11 normalizado | CA2: Posição ODS 11 2025 | CB2: Posição ODS 11 2024 | CC2: Posição ODS 11 2023 | CD2: Posição ODS 11 2022 | CE2: Posição ODS 11 2021 | CF2: Delta posição ODS 11 | CG2: ODS 12 | CH2: ODS 12 normalizado | CI2: Posição ODS 12 2025 | CJ2: Posição ODS 12 2024 | CK2: Posição ODS 12 2023 | CL2: Posição ODS 12 2022 | CM2: Posição ODS 12 2021 | CN2: Delta posição ODS 12 | CO2: ODS 13 | CP2: ODS 13 normalizado | CQ2: Posição ODS 13 2025 | CR2: Posição ODS 13 2024 | CS2: Posição ODS 13 2023 | CT2: Posição ODS 13 2022 | CU2: Posição ODS 13 2021 | CV2: Delta posição ODS 13 | CW2: ODS 14 | CX2: ODS 14 normalizado | CY2: Posição ODS 14 2025 | CZ2: Posição ODS 14 2024 | DA2: Posição ODS 14 2023 | DB2: Posição ODS 14 2022 | DC2: Posição ODS 14 2021 | DD2: Delta posição ODS 14 | DE2: ODS 15 | DF2: ODS 15 normalizado | DG2: Posição ODS 15 2025 | DH2: Posição ODS 15 2024 | DI2: Posição ODS 15 2023 | DJ2: Posição ODS 15 2022 | DK2: Posição ODS 15 2021 | DL2: Delta posição ODS 15 | DM2: ODS 16 | DN2: ODS 16 normalizado | DO2: Posição ODS 16 2025 | DP2: Posição ODS 16 2024 | DQ2: Posição ODS 16 2023 | DR2: Posição ODS 16 2022 | DS2: Posição ODS 16 2021 | DT2: Delta posição ODS 16 | DU2: ODS 17 | DV2: ODS 17 normalizado | DW2: Posição ODS 17 2025 | DX2: Posição ODS 17 2024 | DY2: Posição ODS 17 2023 | DZ2: Posição ODS 17 2022 | EA2: Posição ODS 17 2021 | EB2: Delta posição ODS 17 | EC2: Média ODS | ED2: Ranking 2025 | EE2: Ranking 2024 | EF2: Ranking 2023 | EG2: Ranking 2022 | EH2: Ranking 2021 | EI2: Delta posição ODS
A3: Florianópolis | B3: SC | C3: Sul | D3: 781.61177 | E3: 85.663053 | F3: 57 | G3: 87 | H3: 65 | I3: 51 | J3: 49 | K3: 30 | L3: 188.1617 | M3: 62.645472 | N3: 78 | O3: 40 | P3: 52 | Q3: 73 | R3: 8 | S3: -38 | T3: 1074.8145 | U3: 86.224964 | V3: 52 | W3: 47 | X3: 13 | Y3: 56 | Z3: 181 | AA3: -5 | AB3: 717.07398 | AC3: 77.761639 | AD3: 20 | AE3: 31 | AF3: 33 | AG3: 6 | AH3: 15 | AI3: 11 | AJ3: 412.24738 | AK3: 66.970594 | AL3: 109 | AM3: 149 | AN3: 136 | AO3: 40 | AP3: 24 | AQ3: 40 | AR3: 656.25736 | AS3: 83.533842 | AT3: 119 | AU3: 134 | AV3: 90 | AW3: 150 | AX3: 259 | AY3: 15 | AZ3: - | BA3: 822.81576 | BB3: 100 | BC3: 1 | BD3: 2 | BE3: 1 | BF3: 2 | BG3: 3 | BH3: 1 | BI3: 783.81645 | BJ3: 92.097285 | BK3: 4 | BL3: 2 | BM3: 4 | BN3: 2 | BO3: 2 | BP3: -2 | BQ3: 179.36929 | BR3: 95.407519 | BS3: 5 | BT3: 21 | BU3: 10 | BV3: 10 | BW3: 8 | BX3: 16 | BY3: 1386.4811 | BZ3: 89.505331 | CA3: 42 | CB3: 57 | CC3: 27 | CD3: 67 | CE3: 192 | CF3: 15 | CG3: 394.49602 | CH3: 86.695031 | CI3: 132 | CJ3: 167 | CK3: 123 | CL3: 184 | CM3: 335 | CN3: 35 | CO3: 401.77343 | CP3: 73.266827 | CQ3: 92 | CR3: 98 | CS3: 91 | CT3: 120 | CU3: 59 | CV3: 6 | CW3: 320.20857 | CX3: 80.721293 | CY3: 116 | CZ3: 124 | DA3: 73 | DB3: 122 | DC3: 332 | DD3: 8 | DE3: 252.51129 | DF3: 62.592306 | DG3: 147 | DH3: 106 | DI3: 104 | DJ3: 151 | DK3: 98 | DL3: -41 | DM3: 850.6638 | DN3: 81.284591 | DO3: 47 | DP3: 41 | DQ3: 21 | DR3: 45 | DS3: 63 | DT3: -6 | DU3: 478.49913 | DV3: 76.819864 | DW3: 11 | DX3: 10 | DY3: 15 | DZ3: 12 | EA3: 20 | EB3: -1 | EC3: 81.32435 | ED3: 1 | EE3: 5 | EF3: 2 | EG3: 1 | EH3: 27 | EI3: 4
A4: Itajubá | B4: MG | C4: Sudeste | D4: 829.36272 | E4: 93.275914 | F4: 13 | G4: 38 | H4: 72 | I4: 78 | J4: 118 | K4: 25 | L4: 243.85778 | M4: 92.908543 | N4: 2 | O4: 140 | P4: 32 | Q4: 123 | R4: 165 | S4: 138 | T4: 1100.2477 | U4: 89.205871 | V4: 27 | W4: 101 | X4: 47 | Y4: 47 | Z4: 70 | AA4: 74 | AB4: 646.82575 | AC4: 67.40685 | AD4: 81 | AE4: 67 | AF4: 52 | AG4: 95 | AH4: 108 | AI4: -14 | AJ4: 481.89201 | AK4: 89.261932 | AL4: 3 | AM4: 24 | AN4: 17 | AO4: 41 | AP4: 89 | AQ4: 21 | AR4: 724.1585 | AS4: 95.921252 | AT4: 5 | AU4: 110 | AV4: 53 | AW4: 118 | AX4: 101 | AY4: 105 | AZ4: - | BA4: 633.64129 | BB4: 63.87756 | BC4: 13 | BD4: 65 | BE4: 26 | BF4: 38 | BG4: 98 | BH4: 52 | BI4: 725.0685 | BJ4: 79.507403 | BK4: 14 | BL4: 27 | BM4: 26 | BN4: 46 | BO4: 108 | BP4: 13 | BQ4: 142.85241 | BR4: 73.747444 | BS4: 33 | BT4: 312 | BU4: 236 | BV4: 196 | BW4: 48 | BX4: 279 | BY4: 1327.4179 | BZ4: 83.985604 | CA4: 102 | CB4: 111 | CC4: 106 | CD4: 108 | CE4: 132 | CF4: 9 | CG4: 407.8327 | CH4: 90.466095 | CI4: 69 | CJ4: 109 | CK4: 48 | CL4: 84 | CM4: 59 | CN4: 40 | CO4: 452.47521 | CP4: 94.351494 | CQ4: 3 | CR4: 303 | CS4: 57 | CT4: 258 | CU4: 256 | CV4: 300 | CW4: 311.70486 | CX4: 78.311613 | CY4: 144 | CZ4: 143 | DA4: 83 | DB4: 142 | DC4: 127 | DD4: -1 | DE4: 302.57887 | DF4: 89.967962 | DG4: 6 | DH4: 183 | DI4: 112 | DJ4: 216 | DK4: 195 | DL4: 177 | DM4: 663.70401 | DN4: 47.777261 | DO4: 324 | DP4: 132 | DQ4: 148 | DR4: 111 | DS4: 201 | DT4: -192 | DU4: 426.80825 | DV4: 67.907601 | DW4: 64 | DX4: 122 | DY4: 128 | DZ4: 127 | EA4: 85 | EB4: 58 | EC4: 81.117525 | ED4: 2 | EE4: 59 | EF4: 24 | EG4: 64 | EH4: 82 | EI4: 57
A5: São Paulo | B5: SP | C5: Sudeste | D5: 756.06692 | E5: 81.590476 | F5: 94 | G5: 132 | H5: 103 | I5: 107 | J5: 68 | K5: 38 | L5: 177.4982 | M5: 56.85134 | N5: 160 | O5: 141 | P5: 159 | Q5: 190 | R5: 148 | S5: -19 | T5: 1090.5839 | U5: 88.073228 | V5: 35 | W5: 46 | X5: 35 | Y5: 76 | Z5: 43 | AA5: 11 | AB5: 700.75458 | AC5: 75.356113 | AD5: 30 | AE5: 25 | AF5: 31 | AG5: 33 | AH5: 36 | AI5: -5 | AJ5: 389.50229 | AK5: 59.690514 | AL5: 225 | AM5: 267 | AN5: 196 | AO5: 156 | AP5: 85 | AQ5: 42 | AR5: 681.9535 | AS5: 88.221668 | AT5: 55 | AU5: 40 | AV5: 32 | AW5: 49 | AX5: 64 | AY5: -15 | AZ5: - | BA5: 731.30073 | BB5: 82.52541 | BC5: 5 | BD5: 6 | BE5: 4 | BF5: 4 | BG5: 4 | BH5: 1 | BI5: 764.68301 | BJ5: 87.996925 | BK5: 6 | BL5: 7 | BM5: 2 | BN5: 3 | BO5: 3 | BP5: 1 | BQ5: 153.24847 | BR5: 79.913896 | BS5: 19 | BT5: 16 | BU5: 16 | BV5: 30 | BW5: 63 | BX5: -3 | BY5: 1477.72 | BZ5: 98.032034 | CA5: 6 | CB5: 5 | CC5: 4 | CD5: 10 | CE5: 12 | CF5: -1 | CG5: 400.15208 | CH5: 88.294331 | CI5: 99 | CJ5: 59 | CK5: 36 | CL5: 64 | CM5: 76 | CN5: -40 | CO5: 391.86477 | CP5: 69.146244 | CQ5: 198 | CR5: 177 | CS5: 222 | CT5: 209 | CU5: 167 | CV5: -21 | CW5: 325.40871 | CX5: 82.194844 | CY5: 85 | CZ5: 104 | DA5: 64 | DB5: 80 | DC5: 96 | DD5: 19 | DE5: 234.04651 | DF5: 52.496245 | DG5: 244 | DH5: 209 | DI5: 245 | DJ5: 255 | DK5: 207 | DL5: -35 | DM5: 892.8073 | DN5: 88.837639 | DO5: 22 | DP5: 4 | DQ5: 1 | DR5: 1 | DS5: 3 | DT5: -18 | DU5: 612.94326 | DV5: 100 | DW5: 1 | DX5: 1 | DY5: 1 | DZ5: 1 | EA5: 1 | EB5: 0 | EC5: 79.951307 | ED5: 3 | EE5: 2 | EF5: 1 | EG5: 2 | EH5: 2 | EI5: -1
A6: Jaraguá do Sul | B6: SC | C6: Sul | D6: 829.84824 | E6: 93.353319 | F6: 12 | G6: 3 | H6: 38 | I6: 23 | J6: 19 | K6: -9 | L6: 191.56295 | M6: 64.493579 | N6: 61 | O6: 81 | P6: 95 | Q6: 74 | R6: 42 | S6: 20 | T6: 1078.1341 | U6: 86.614039 | V6: 49 | W6: 42 | X6: 33 | Y6: 50 | Z6: 26 | AA6: -7 | AB6: 653.53455 | AC6: 68.395746 | AD6: 74 | AE6: 69 | AF6: 81 | AG6: 76 | AH6: 61 | AI6: -5 | AJ6: 414.69705 | AK6: 67.754666 | AL6: 102 | AM6: 8 | AN6: 112 | AO6: 21 | AP6: 27 | AQ6: -94 | AR6: 716.29955 | AS6: 94.48752 | AT6: 12 | AU6: 38 | AV6: 24 | AW6: 48 | AX6: 40 | AY6: 26 | AZ6: - | BA6: 605.75027 | BB6: 58.551833 | BC6: 27 | BD6: 37 | BE6: 62 | BF6: 51 | BG6: 38 | BH6: 10 | BI6: 664.04802 | BJ6: 66.430509 | BK6: 73 | BL6: 19 | BM6: 141 | BN6: 41 | BO6: 50 | BP6: -54 | BQ6: 128.75229 | BR6: 65.383926 | BS6: 79 | BT6: 27 | BU6: 17 | BV6: 62 | BW6: 36 | BX6: -52 | BY6: 1445.5675 | BZ6: 95.027234 | CA6: 12 | CB6: 19 | CC6: 14 | CD6: 24 | CE6: 7 | CF6: 7 | CG6: 401.32655 | CH6: 88.626425 | CI6: 92 | CJ6: 128 | CK6: 93 | CL6: 146 | CM6: 116 | CN6: 36 | CO6: 396.4853 | CP6: 71.06772 | CQ6: 137 | CR6: 237 | CS6: 155 | CT6: 97 | CU6: 111 | CV6: 100 | CW6: 324.72336 | CX6: 82.000639 | CY6: 91 | CZ6: 108 | DA6: 52 | DB6: 97 | DC6: 83 | DD6: 17 | DE6: 279.00253 | DF6: 77.077031 | DG6: 40 | DH6: 61 | DI6: 50 | DJ6: 69 | DK6: 36 | DL6: 21 | DM6: 955.08957 | DN6: 100 | DO6: 1 | DP6: 7 | DQ6: 6 | DR6: 6 | DS6: 2 | DT6: 6 | DU6: 466.21474 | DV6: 74.701856 | DW6: 18 | DX6: 17 | DY6: 9 | DZ6: 16 | EA6: 5 | EB6: -1 | EC6: 78.372878 | ED6: 4 | EE6: 7 | EF6: 8 | EG6: 9 | EH6: 5 | EI6: 3
A7: Indaiatuba | B7: SP | C7: Sudeste | D7: 802.63113 | E7: 89.014137 | F7: 31 | G7: 31 | H7: 5 | I7: 42 | J7: 24 | K7: 0 | L7: 201.5467 | M7: 69.918359 | N7: 30 | O7: 58 | P7: 136 | Q7: 141 | R7: 12 | S7: 28 | T7: 1118.5809 | U7: 91.354612 | V7: 11 | W7: 32 | X7: 58 | Y7: 30 | Z7: 36 | AA7: 21 | AB7: 754.49313 | AC7: 83.277328 | AD7: 10 | AE7: 36 | AF7: 47 | AG7: 52 | AH7: 59 | AI7: 26 | AJ7: 397.401 | AK7: 62.218674 | AL7: 183 | AM7: 217 | AN7: 47 | AO7: 37 | AP7: 32 | AQ7: 34 | AR7: 680.64072 | AS7: 87.982172 | AT7: 63 | AU7: 69 | AV7: 180 | AW7: 140 | AX7: 107 | AY7: 6 | AZ7: - | BA7: 651.41261 | BB7: 67.270954 | BC7: 10 | BD7: 46 | BE7: 50 | BF7: 56 | BG7: 62 | BH7: 36 | BI7: 697.10587 | BJ7: 73.514917 | BK7: 27 | BL7: 39 | BM7: 15 | BN7: 16 | BO7: 29 | BP7: 12 | BQ7: 114.28091 | BR7: 56.800194 | BS7: 162 | BT7: 160 | BU7: 80 | BV7: 79 | BW7: 120 | BX7: -2 | BY7: 1451.8786 | BZ7: 95.617033 | CA7: 10 | CB7: 7 | CC7: 40 | CD7: 13 | CE7: 10 | CF7: -3 | CG7: 405.47875 | CH7: 89.800494 | CI7: 76 | CJ7: 92 | CK7: 269 | CL7: 106 | CM7: 70 | CN7: 16 | CO7: 408.82374 | CP7: 76.198742 | CQ7: 56 | CR7: 143 | CS7: 235 | CT7: 205 | CU7: 48 | CV7: 87 | CW7: 334.18427 | CX7: 84.681557 | CY7: 44 | CZ7: 9 | DA7: 205 | DB7: 135 | DC7: 116 | DD7: -35 | DE7: 228.21224 | DF7: 49.306214 | DG7: 269 | DH7: 363 | DI7: 384 | DJ7: 358 | DK7: 348 | DL7: 94 | DM7: 859.30754 | DN7: 82.83374 | DO7: 43 | DP7: 14 | DQ7: 16 | DR7: 14 | DS7: 9 | DT7: -29 | DU7: 512.94602 | DV7: 82.759011 | DW7: 5 | DX7: 3 | DY7: 5 | DZ7: 5 | EA7: 12 | EB7: -2 | EC7: 77.659259 | ED7: 5 | EE7: 13 | EF7: 45 | EG7: 15 | EH7: 15 | EI7: 8
A8: Maringá | B8: PR | C8: Sul | D8: 844.67359 | E8: 95.716902 | F8: 3 | G8: 12 | H8: 7 | I8: 2 | J8: 10 | K8: 9 | L8: 186.95215 | M8: 61.988251 | N8: 80 | O8: 185 | P8: 192 | Q8: 270 | R8: 201 | S8: 105 | T8: 1131.9011 | U8: 92.915815 | V8: 4 | W8: 15 | X8: 88 | Y8: 14 | Z8: 8 | AA8: 11 | AB8: 733.57276 | AC8: 80.193606 | AD8: 16 | AE8: 14 | AF8: 30 | AG8: 37 | AH8: 25 | AI8: -2 | AJ8: 424.67522 | AK8: 70.948406 | AL8: 62 | AM8: 125 | AN8: 46 | AO8: 27 | AP8: 55 | AQ8: 63 | AR8: 698.63015 | AS8: 91.264039 | AT8: 26 | AU8: 85 | AV8: 148 | AW8: 45 | AX8: 31 | AY8: 59 | AZ8: - | BA8: 598.57284 | BB8: 57.181319 | BC8: 33 | BD8: 14 | BE8: 22 | BF8: 97 | BG8: 104 | BH8: -19 | BI8: 721.12842 | BJ8: 78.66303 | BK8: 16 | BL8: 12 | BM8: 6 | BN8: 79 | BO8: 117 | BP8: -4 | BQ8: 101.73174 | BR8: 49.356627 | BS8: 274 | BT8: 119 | BU8: 239 | BV8: 230 | BW8: 199 | BX8: -155 | BY8: 1457.0287 | BZ8: 96.098328 | CA8: 7 | CB8: 11 | CC8: 59 | CD8: 9 | CE8: 6 | CF8: 4 | CG8: 415.8011 | CH8: 92.719234 | CI8: 48 | CJ8: 156 | CK8: 249 | CL8: 87 | CM8: 60 | CN8: 108 | CO8: 397.49131 | CP8: 71.486077 | CQ8: 125 | CR8: 196 | CS8: 228 | CT8: 322 | CU8: 234 | CV8: 71 | CW8: 349.55452 | CX8: 89.036992 | CY8: 3 | CZ8: 100 | DA8: 208 | DB8: 36 | DC8: 26 | DD8: 97 | DE8: 217.54351 | DF8: 43.472832 | DG8: 348 | DH8: 373 | DI8: 363 | DJ8: 370 | DK8: 365 | DL8: 25 | DM8: 925.14436 | DN8: 94.633156 | DO8: 7 | DP8: 16 | DQ8: 22 | DR8: 10 | DS8: 26 | DT8: 9 | DU8: 473.87344 | DV8: 76.022327 | DW8: 15 | DX8: 16 | DY8: 16 | DZ8: 20 | EA8: 21 | EB8: 1 | EC8: 77.606059 | ED8: 6 | EE8: 14 | EF8: 51 | EG8: 21 | EH8: 20 | EI8: 8
A9: Campinas | B9: SP | C9: Sudeste | D9: 784.68207 | E9: 86.152547 | F9: 52 | G9: 91 | H9: 71 | I9: 56 | J9: 45 | K9: 39 | L9: 192.46871 | M9: 64.985731 | N9: 55 | O9: 19 | P9: 106 | Q9: 175 | R9: 72 | S9: -36 | T9: 1127.5525 | U9: 92.40613 | V9: 5 | W9: 11 | X9: 10 | Y9: 16 | Z9: 16 | AA9: 6 | AB9: 686.64571 | AC9: 73.276425 | AD9: 43 | AE9: 46 | AF9: 40 | AG9: 44 | AH9: 51 | AI9: 3 | AJ9: 385.78984 | AK9: 58.502259 | AL9: 240 | AM9: 284 | AN9: 182 | AO9: 117 | AP9: 83 | AQ9: 44 | AR9: 693.94065 | AS9: 90.40852 | AT9: 32 | AU9: 23 | AV9: 47 | AW9: 63 | AX9: 54 | AY9: -9 | AZ9: - | BA9: 624.98633 | BB9: 62.224916 | BC9: 20 | BD9: 13 | BE9: 13 | BF9: 14 | BG9: 24 | BH9: -7 | BI9: 699.61217 | BJ9: 74.052026 | BK9: 25 | BL9: 36 | BM9: 14 | BN9: 7 | BO9: 24 | BP9: 11 | BQ9: 134.51638 | BR9: 68.80291 | BS9: 55 | BT9: 24 | BU9: 51 | BV9: 52 | BW9: 85 | BX9: -31 | BY9: 1481.3909 | BZ9: 98.375094 | CA9: 5 | CB9: 6 | CC9: 6 | CD9: 5 | CE9: 9 | CF9: 1 | CG9: 426.37808 | CH9: 95.709968 | CI9: 13 | CJ9: 19 | CK9: 16 | CL9: 19 | CM9: 16 | CN9: 6 | CO9: 395.44597 | CP9: 70.63551 | CQ9: 147 | CR9: 45 | CS9: 209 | CT9: 187 | CU9: 123 | CV9: -102 | CW9: 332.69249 | CX9: 84.258835 | CY9: 52 | CZ9: 62 | DA9: 56 | DB9: 83 | DC9: 82 | DD9: 10 | DE9: 216.07162 | DF9: 42.668041 | DG9: 356 | DH9: 281 | DI9: 374 | DJ9: 351 | DK9: 351 | DL9: -75 | DM9: 896.90609 | DN9: 89.572232 | DO9: 18 | DP9: 11 | DQ9: 4 | DR9: 9 | DS9: 12 | DT9: -7 | DU9: 529.71098 | DV9: 85.649536 | DW9: 3 | DX9: 4 | DY9: 3 | DZ9: 6 | EA9: 7 | EB9: 1 | EC9: 77.355042 | ED9: 7 | EE9: 6 | EF9: 6 | EG9: 8 | EH9: 11 | EI9: -1
A10: São Sebastião | B10: SP | C10: Sudeste | D10: 760.67833 | E10: 82.325667 | F10: 86 | G10: 55 | H10: 26 | I10: 32 | J10: 177 | K10: -31 | L10: 174.57654 | M10: 55.263825 | N10: 181 | O10: 143 | P10: 193 | Q10: 312 | R10: 325 | S10: -38 | T10: 961.82785 | U10: 72.982347 | V10: 173 | W10: 107 | X10: 83 | Y10: 114 | Z10: 232 | AA10: -66 | AB10: 642.9257 | AC10: 66.831972 | AD10: 82 | AE10: 44 | AF10: 111 | AG10: 126 | AH10: 177 | AI10: -38 | AJ10: 497.46084 | AK10: 94.24509 | AL10: 2 | AM10: 2 | AN10: 1 | AO10: 1 | AP10: 197 | AQ10: 0 | AR10: 680.88076 | AS10: 88.025963 | AT10: 59 | AU10: 56 | AV10: 33 | AW10: 66 | AX10: 195 | AY10: -3 | AZ10: - | BA10: 527.08058 | BB10: 43.530031 | BC10: 109 | BD10: 49 | BE10: 260 | BF10: 281 | BG10: 282 | BH10: -60 | BI10: 809.83322 | BJ10: 97.672765 | BK10: 2 | BL10: 3 | BM10: 53 | BN10: 72 | BO10: 281 | BP10: 1 | BQ10: 146.36953 | BR10: 75.833637 | BS10: 27 | BT10: 33 | BU10: 194 | BV10: 178 | BW10: 190 | BX10: 6 | BY10: 1323.6286 | BZ10: 83.631476 | CA10: 105 | CB10: 15 | CC10: 38 | CD10: 56 | CE10: 205 | CF10: -90 | CG10: 411.04075 | CH10: 91.373201 | CI10: 56 | CJ10: 64 | CK10: 57 | CL10: 83 | CM10: 325 | CN10: 8 | CO10: 387.94477 | CP10: 67.516085 | CQ10: 261 | CR10: 313 | CS10: 154 | CT10: 233 | CU10: 363 | CV10: 52 | CW10: 332.82786 | CX10: 84.297194 | CY10: 51 | CZ10: 65 | DA10: 44 | DB10: 71 | DC10: 313 | DD10: 14 | DE10: 296.13939 | DF10: 86.44702 | DG10: 11 | DH10: 23 | DI10: 9 | DJ10: 30 | DK10: 11 | DL10: 12 | DM10: 770.74021 | DN10: 66.960515 | DO10: 170 | DP10: 1 | DQ10: 20 | DR10: 11 | DS10: 56 | DT10: -169 | DU10: 442.8723 | DV10: 70.677278 | DW10: 40 | DX10: 7 | DY10: 102 | DZ10: 69 | EA10: 91 | EB10: -33 | EC10: 76.725879 | ED10: 8 | EE10: 1 | EF10: 20 | EG10: 31 | EH10: 224 | EI10: -7
A11: Vitória | B11: ES | C11: Sudeste | D11: 732.71098 | E11: 77.866875 | F11: 135 | G11: 136 | H11: 84 | I11: 119 | J11: 109 | K11: 1 | L11: 160.89164 | M11: 47.827984 | N11: 275 | O11: 325 | P11: 285 | Q11: 250 | R11: 251 | S11: 50 | T11: 1106.8282 | U11: 89.977142 | V11: 19 | W11: 35 | X11: 97 | Y11: 58 | Z11: 18 | AA11: 16 | AB11: 807.64125 | AC11: 91.111513 | AD11: 3 | AE11: 4 | AF11: 9 | AG11: 16 | AH11: 9 | AI11: 1 | AJ11: 352.46721 | AK11: 47.836598 | AL11: 364 | AM11: 348 | AN11: 306 | AO11: 273 | AP11: 192 | AQ11: -16 | AR11: 659.88809 | AS11: 84.196208 | AT11: 108 | AU11: 101 | AV11: 186 | AW11: 90 | AX11: 84 | AY11: -7 | AZ11: - | BA11: 770.69575 | BB11: 90.047801 | BC11: 3 | BD11: 1 | BE11: 2 | BF11: 5 | BG11: 2 | BH11: -2 | BI11: 726.00374 | BJ11: 79.707828 | BK11: 13 | BL11: 24 | BM11: 25 | BN11: 56 | BO11: 8 | BP11: 11 | BQ11: 142.68759 | BR11: 73.649683 | BS11: 34 | BT11: 7 | BU11: 89 | BV11: 24 | BW11: 18 | BX11: -27 | BY11: 1335.1081 | BZ11: 84.704287 | CA11: 94 | CB11: 43 | CC11: 127 | CD11: 98 | CE11: 61 | CF11: -51 | CG11: 396.47764 | CH11: 87.255352 | CI11: 123 | CJ11: 135 | CK11: 277 | CL11: 116 | CM11: 79 | CN11: 12 | CO11: 395.03096 | CP11: 70.462925 | CQ11: 155 | CR11: 185 | CS11: 153 | CT11: 149 | CU11: 34 | CV11: 30 | CW11: 319.18945 | CX11: 80.432504 | CY11: 118 | CZ11: 73 | DA11: 247 | DB11: 39 | DC11: 67 | DD11: -45 | DE11: 232.90622 | DF11: 51.872763 | DG11: 249 | DH11: 257 | DI11: 247 | DJ11: 277 | DK11: 227 | DL11: 8 | DM11: 855.83168 | DN11: 82.21079 | DO11: 45 | DP11: 55 | DQ11: 25 | DR11: 62 | DS11: 38 | DT11: 10 | DU11: 523.92596 | DV11: 84.652114 | DW11: 4 | DX11: 5 | DY11: 13 | DZ11: 15 | EA11: 17 | EB11: 1 | EC11: 76.488273 | ED11: 9 | EE11: 10 | EF11: 54 | EG11: 17 | EH11: 9 | EI11: 1
A12: Balneário Camboriú | B12: SC | C12: Sul | D12: 871.53891 | E12: 100 | F12: 1 | G12: 2 | H12: 1 | I12: 1 | J12: 7 | K12: 1 | L12: 185.76874 | M12: 61.345231 | N12: 88 | O12: 101 | P12: 113 | Q12: 154 | R12: 104 | S12: 13 | T12: 1085.008 | U12: 87.4197 | V12: 41 | W12: 4 | X12: 9 | Y12: 25 | Z12: 35 | AA12: -37 | AB12: 572.76264 | AC12: 56.489736 | AD12: 171 | AE12: 154 | AF12: 166 | AG12: 141 | AH12: 162 | AI12: -17 | AJ12: 440.63204 | AK12: 76.055748 | AL12: 29 | AM12: 23 | AN12: 3 | AO12: 14 | AP12: 61 | AQ12: -6 | AR12: 744.92792 | AS12: 99.710281 | AT12: 2 | AU12: 3 | AV12: 2 | AW12: 2 | AX12: 2 | AY12: 1 | AZ12: - | BA12: 512.83865 | BB12: 40.810566 | BC12: 134 | BD12: 121 | BE12: 84 | BF12: 111 | BG12: 100 | BH12: -13 | BI12: 651.23178 | BJ12: 63.683948 | BK12: 106 | BL12: 60 | BM12: 23 | BN12: 49 | BO12: 65 | BP12: -46 | BQ12: 110.57818 | BR12: 54.603914 | BS12: 191 | BT12: 178 | BU12: 53 | BV12: 35 | BW12: 41 | BX12: -13 | BY12: 1489.136 | BZ12: 99.098905 | CA12: 2 | CB12: 1 | CC12: 1 | CD12: 6 | CE12: 13 | CF12: -1 | CG12: 428.1032 | CH12: 96.197762 | CI12: 8 | CJ12: 13 | CK12: 6 | CL12: 4 | CM12: 5 | CN12: 5 | CO12: 395.19081 | CP12: 70.5294 | CQ12: 150 | CR12: 211 | CS12: 184 | CT12: 138 | CU12: 52 | CV12: 61 | CW12: 338.39026 | CX12: 85.873399 | CY12: 26 | CZ12: 3 | DA12: 5 | DB12: 6 | DC12: 4 | DD12: -23 | DE12: 257.83017 | DF12: 65.500533 | DG12: 125 | DH12: 129 | DI12: 129 | DJ12: 157 | DK12: 93 | DL12: 4 | DM12: 893.09869 | DN12: 88.889863 | DO12: 21 | DP12: 13 | DQ12: 7 | DR12: 15 | DS12: 10 | DT12: -8 | DU12: 460.67294 | DV12: 73.746367 | DW12: 22 | DX12: 21 | DY12: 12 | DZ12: 10 | EA12: 8 | EB12: -1 | EC12: 76.247209 | ED12: 10 | EE12: 8 | EF12: 3 | EG12: 5 | EH12: 6 | EI12: -2
A13: Paulínia | B13: SP | C13: Sudeste | D13: 842.67141 | E13: 95.397698 | F13: 4 | G13: 1 | H13: 3 | I13: 5 | J13: 11 | K13: -3 | L13: 168.50302 | M13: 51.963714 | N13: 224 | O13: 13 | P13: 72 | Q13: 144 | R13: 25 | S13: -211 | T13: 1138.9726 | U13: 93.74463 | V13: 3 | W13: 41 | X13: 19 | Y13: 65 | Z13: 13 | AA13: 38 | AB13: 690.53491 | AC13: 73.849705 | AD13: 39 | AE13: 51 | AF13: 76 | AG13: 87 | AH13: 62 | AI13: 12 | AJ13: 446.95211 | AK13: 78.078626 | AL13: 19 | AM13: 7 | AN13: 16 | AO13: 12 | AP13: 33 | AQ13: -12 | AR13: 685.39546 | AS13: 88.849595 | AT13: 51 | AU13: 28 | AV13: 38 | AW13: 54 | AX13: 49 | AY13: -23 | AZ13: - | BA13: 639.07377 | BB13: 64.914879 | BC13: 11 | BD13: 18 | BE13: 29 | BF13: 15 | BG13: 60 | BH13: 7 | BI13: 756.93046 | BJ13: 86.335527 | BK13: 7 | BL13: 6 | BM13: 13 | BN13: 8 | BO13: 54 | BP13: -1 | BQ13: 134.9841 | BR13: 69.080341 | BS13: 52 | BT13: 26 | BU13: 23 | BV13: 13 | BW13: 219 | BX13: -26 | BY13: 1436.0615 | BZ13: 94.138848 | CA13: 16 | CB13: 14 | CC13: 42 | CD13: 21 | CE13: 48 | CF13: -2 | CG13: 423.0206 | CH13: 94.760611 | CI13: 22 | CJ13: 25 | CK13: 24 | CL13: 36 | CM13: 31 | CN13: 3 | CO13: 389.43619 | CP13: 68.136303 | CQ13: 241 | CR13: 82 | CS13: 175 | CT13: 267 | CU13: 115 | CV13: -159 | CW13: 331.94541 | CX13: 84.047135 | CY13: 56 | CZ13: 60 | DA13: 36 | DB13: 55 | DC13: 46 | DD13: 4 | DE13: 206.94561 | DF13: 37.678173 | DG13: 403 | DH13: 328 | DI13: 371 | DJ13: 388 | DK13: 385 | DL13: -75 | DM13: 786.98827 | DN13: 69.872527 | DO13: 140 | DP13: 94 | DQ13: 192 | DR13: 114 | DS13: 132 | DT13: -46 | DU13: 422.43828 | DV13: 67.154153 | DW13: 74 | DX13: 83 | DY13: 208 | DZ13: 133 | EA13: 238 | EB13: 9 | EC13: 76.125154 | ED13: 11 | EE13: 4 | EF13: 13 | EG13: 13 | EH13: 36 | EI13: -7
A14: Botucatu | B14: SP | C14: Sudeste | D14: 820.08563 | E14: 91.796881 | F14: 17 | G14: 9 | H14: 6 | I14: 19 | J14: 15 | K14: -8 | L14: 182.86091 | M14: 59.765229 | N14: 115 | O14: 33 | P14: 119 | Q14: 120 | R14: 143 | S14: -82 | T14: 1118.4379 | U14: 91.33786 | V14: 12 | W14: 26 | X14: 34 | Y14: 37 | Z14: 94 | AA14: 14 | AB14: 752.65947 | AC14: 83.007041 | AD14: 11 | AE14: 12 | AF14: 8 | AG14: 32 | AH14: 28 | AI14: 1 | AJ14: 423.532 | AK14: 70.582491 | AL14: 64 | AM14: 28 | AN14: 28 | AO14: 51 | AP14: 29 | AQ14: -36 | AR14: 699.29404 | AS14: 91.385154 | AT14: 24 | AU14: 17 | AV14: 27 | AW14: 36 | AX14: 35 | AY14: -7 | AZ14: - | BA14: 556.11123 | BB14: 49.073369 | BC14: 64 | BD14: 111 | BE14: 97 | BF14: 98 | BG14: 108 | BH14: 47 | BI14: 643.46183 | BJ14: 62.018822 | BK14: 128 | BL14: 129 | BM14: 126 | BN14: 85 | BO14: 68 | BP14: 1 | BQ14: 122.65757 | BR14: 61.768833 | BS14: 114 | BT14: 162 | BU14: 188 | BV14: 232 | BW14: 157 | BX14: 48 | BY14: 1442.0449 | BZ14: 94.698022 | CA14: 13 | CB14: 17 | CC14: 11 | CD14: 28 | CE14: 17 | CF14: 4 | CG14: 411.05318 | CH14: 91.376715 | CI14: 55 | CJ14: 70 | CK14: 72 | CL14: 99 | CM14: 91 | CN14: 15 | CO14: 399.90551 | CP14: 72.490038 | CQ14: 103 | CR14: 28 | CS14: 103 | CT14: 73 | CU14: 32 | CV14: -75 | CW14: 337.51506 | CX14: 85.625395 | CY14: 28 | CZ14: 29 | DA14: 21 | DB14: 30 | DC14: 25 | DD14: 1 | DE14: 234.49176 | DF14: 52.739698 | DG14: 242 | DH14: 154 | DI14: 256 | DJ14: 253 | DK14: 242 | DL14: -88 | DM14: 830.5012 | DN14: 77.671007 | DO14: 72 | DP14: 34 | DQ14: 29 | DR14: 48 | DS14: 42 | DT14: -38 | DU14: 456.71124 | DV14: 73.063314 | DW14: 25 | DX14: 39 | DY14: 38 | DZ14: 28 | EA14: 14 | EB14: 14 | EC14: 75.524992 | ED14: 12 | EE14: 12 | EF14: 14 | EG14: 20 | EH14: 19 | EI14: 0
... A41: Franca | B41: SP | C41: Sudeste | D41: 794.63644 | E41: 87.739557 | F41: 37 | G41: 34 | H41: 18 | I41: 37 | J41: 1 | K41: -3 | L41: 196.93084 | M41: 67.410278 | N41: 38 | O41: 23 | P41: 38 | Q41: 72 | R41: 229 | S41: -15 | T41: 1011.4674 | U41: 78.800361 | V41: 121 | W41: 31 | X41: 94 | Y41: 102 | Z41: 85 | AA41: -90 | AB41: 680.53101 | AC41: 72.375101 | AD41: 51 | AE41: 43 | AF41: 50 | AG41: 43 | AH41: 58 | AI41: -8 | AJ41: 390.23501 | AK41: 59.925038 | AL41: 222 | AM41: 184 | AN41: 86 | AO41: 109 | AP41: 1 | AQ41: -38 | AR41: 707.41819 | AS41: 92.867267 | AT41: 17 | AU41: 13 | AV41: 119 | AW41: 7 | AX41: 7 | AY41: -4 | AZ41: - | BA41: 504.28232 | BB41: 39.176755 | BC41: 152 | BD41: 181 | BE41: 221 | BF41: 196 | BG41: 134 | BH41: 29 | BI41: 609.6025 | BJ41: 54.762654 | BK41: 251 | BL41: 244 | BM41: 233 | BN41: 221 | BO41: 28 | BP41: -7 | BQ41: 90.145863 | BR41: 42.484436 | BS41: 338 | BT41: 349 | BU41: 350 | BV41: 367 | BW41: 342 | BX41: 11 | BY41: 1439.8677 | BZ41: 94.494553 | CA41: 15 | CB41: 9 | CC41: 55 | CD41: 7 | CE41: 1 | CF41: -6 | CG41: 417.70919 | CH41: 93.258761 | CI41: 39 | CJ41: 33 | CK41: 245 | CL41: 32 | CM41: 27 | CN41: -6 | CO41: 397.13223 | CP41: 71.336752 | CQ41: 129 | CR41: 71 | CS41: 61 | CT41: 72 | CU41: 108 | CV41: -58 | CW41: 336.28804 | CX41: 85.277699 | CY41: 35 | CZ41: 24 | DA41: 209 | DB41: 19 | DC41: 14 | DD41: -11 | DE41: 231.79936 | DF41: 51.26756 | DG41: 256 | DH41: 231 | DI41: 219 | DJ41: 243 | DK41: 216 | DL41: -25 | DM41: 876.83283 | DN41: 85.97466 | DO41: 31 | DP41: 80 | DQ41: 19 | DR41: 21 | DS41: 19 | DT41: 49 | DU41: 421.70285 | DV41: 67.027355 | DW41: 75 | DX41: 56 | DY41: 62 | DZ41: 51 | EA41: 64 | EB41: -19 | EC41: 71.511174 | ED41: 39 | EE41: 32 | EF41: 95 | EG41: 40 | EH41: 12 | EI41: -7
A42: Cajamar | B42: SP | C42: Sudeste | D42: 702.13182 | E42: 72.991686 | F42: 199 | G42: 236 | H42: 234 | K42: 37 | L42: 196.72349 | M42: 67.297614 | N42: 39 | O42: 126 | P42: 145 | S42: 87 | T42: 992.7713 | U42: 76.60908 | V42: 134 | W42: 132 | X42: 207 | AA42: -2 | AB42: 580.67898 | AC42: 57.656627 | AD42: 152 | AE42: 143 | AF42: 186 | AI42: -9 | AJ42: 398.59062 | AK42: 62.599438 | AL42: 174 | AM42: 162 | AN42: 205 | AQ42: -12 | AR42: 664.42059 | AS42: 85.023086 | AT42: 103 | AU42: 185 | AV42: 244 | AY42: 82 | AZ42: - | BA42: 602.77255 | BB42: 57.983244 | BC42: 29 | BD42: 39 | BE42: 28 | BH42: 10 | BI42: 710.46826 | BJ42: 76.378522 | BK42: 20 | BL42: 33 | BM42: 21 | BP42: 13 | BQ42: 135.28815 | BR42: 69.260688 | BS42: 50 | BT42: 35 | BU42: 13 | BX42: -15 | BY42: 1298.1614 | BZ42: 81.251441 | CA42: 132 | CB42: 204 | CC42: 244 | CF42: 72 | CG42: 405.74407 | CH42: 89.875518 | CI42: 75 | CJ42: 82 | CK42: 261 | CN42: 7 | CO42: 405.97684 | CP42: 75.014842 | CQ42: 68 | CR42: 116 | CS42: 397 | CV42: 48 | CW42: 296.67266 | CX42: 74.051969 | CY42: 214 | CZ42: 309 | DA42: 361 | DD42: 95 | DE42: 268.47867 | DF42: 71.322855 | DG42: 73 | DH42: 99 | DI42: 130 | DL42: 26 | DM42: 768.8089 | DN42: 66.614383 | DO42: 177 | DP42: 163 | DQ42: 137 | DT42: -14 | DU42: 381.43805 | DV42: 60.085114 | DW42: 159 | DX42: 221 | DY42: 146 | EB42: 62 | EC42: 71.501007 | ED42: 40 | EE42: 114 | EF42: 190 | EI42: 74
A43: Cachoeiro de Itapemirim | B43: ES | C43: Sudeste | D43: 741.59698 | E43: 79.283557 | F43: 117 | G43: 99 | H43: 50 | I43: 121 | J43: 90 | K43: -18 | L43: 211.66202 | M43: 75.414628 | N43: 16 | O43: 303 | P43: 269 | Q43: 370 | R43: 332 | S43: 287 | T43: 990.08302 | U43: 76.293999 | V43: 137 | W43: 202 | X43: 107 | Y43: 184 | Z43: 131 | AA43: 65 | AB43: 613.28884 | AC43: 62.463414 | AD43: 110 | AE43: 133 | AF43: 118 | AG43: 191 | AH43: 194 | AI43: 23 | AJ43: 408.04277 | AK43: 65.624814 | AL43: 127 | AM43: 200 | AN43: 140 | AO43: 160 | AP43: 129 | AQ43: 73 | AR43: 717.34589 | AS43: 94.678408 | AT43: 11 | AU43: 55 | AV43: 46 | AW43: 85 | AX43: 33 | AY43: 44 | AZ43: - | BA43: 508.78671 | BB43: 40.036858 | BC43: 141 | BD43: 191 | BE43: 137 | BF43: 221 | BG43: 202 | BH43: 50 | BI43: 622.60626 | BJ43: 57.549404 | BK43: 199 | BL43: 238 | BM43: 146 | BN43: 209 | BO43: 149 | BP43: 39 | BQ43: 121.68861 | BR43: 61.194092 | BS43: 118 | BT43: 68 | BU43: 221 | BV43: 265 | BW43: 329 | BX43: -50 | BY43: 1236.1947 | BZ43: 75.460371 | CA43: 199 | CB43: 160 | CC43: 143 | CD43: 189 | CE43: 101 | CF43: -39 | CG43: 410.19497 | CH43: 91.134048 | CI43: 61 | CJ43: 124 | CK43: 111 | CL43: 131 | CM43: 33 | CN43: 63 | CO43: 424.68333 | CP43: 82.79406 | CQ43: 17 | CR43: 306 | CS43: 146 | CT43: 291 | CU43: 90 | CV43: 289 | CW43: 310.29869 | CX43: 77.91315 | CY43: 155 | CZ43: 148 | DA43: 124 | DB43: 200 | DC43: 89 | DD43: -7 | DE43: 275.32528 | DF43: 75.066407 | DG43: 50 | DH43: 282 | DI43: 194 | DJ43: 258 | DK43: 234 | DL43: 232 | DM43: 795.09357 | DN43: 71.325177 | DO43: 126 | DP43: 110 | DQ43: 56 | DR43: 125 | DS43: 97 | DT43: -16 | DU43: 367.75261 | DV43: 57.725544 | DW43: 185 | DX43: 131 | DY43: 216 | DZ43: 246 | EA43: 193 | EB43: -54 | EC43: 71.497371 | ED43: 41 | EE43: 151 | EF43: 91 | EG43: 195 | EH43: 119 | EI43: 110
A44: Matão | B44: SP | C44: Sudeste | D44: 815.51776 | E44: 91.068633 | F44: 19 | K44: Novo município | L44: 177.49926 | M44: 56.85192 | N44: 159 | S44: Novo município | T44: 1124.0859 | U44: 91.999826 | V44: 8 | AA44: Novo município | AB44: 661.08882 | AC44: 69.509267 | AD44: 67 | AI44: Novo município | AJ44: 444.47403 | AK44: 77.285462 | AL44: 22 | AQ44: Novo município | AR44: 668.29425 | AS44: 85.729768 | AT44: 89 | AY44: Novo município | AZ44: - | BA44: 507.88779 | BB44: 39.865211 | BC44: 142 | BH44: Novo município | BI44: 665.75313 | BJ44: 66.795922 | BK44: 70 | BP44: Novo município | BQ44: 120.13373 | BR44: 60.271809 | BS44: 126 | BX44: Novo município | BY44: 1407.1695 | BZ44: 91.438758 | CA44: 28 | CF44: Novo município | CG44: 399.99512 | CH44: 88.24995 | CI44: 100 | CN44: Novo município | CO44: 391.69754 | CP44: 69.076699 | CQ44: 202 | CV44: Novo município | CW44: 330.45706 | CX44: 83.625385 | CY44: 63 | DD44: Novo município | DE44: 218.60561 | DF44: 44.053559 | DG44: 343 | DL44: Novo município | DM44: 771.36782 | DN44: 67.072998 | DO44: 168 | DT44: Novo município | DU44: 380.12182 | DV44: 59.858177 | DW44: 163 | EB44: Novo município | EC44: 71.422084 | ED44: 42 | EI44: Novo município
A45: Taubaté | B45: SP | C45: Sudeste | D45: 768.50241 | E45: 83.573048 | F45: 73 | G45: 121 | H45: 57 | I45: 60 | J45: 71 | K45: 48 | L45: 208.36045 | M45: 73.620685 | N45: 18 | O45: 98 | P45: 7 | Q45: 324 | R45: 365 | S45: 80 | T45: 1044.3572 | U45: 82.655217 | V45: 84 | W45: 88 | X45: 57 | Y45: 71 | Z45: 40 | AA45: 4 | AB45: 707.44266 | AC45: 76.341955 | AD45: 26 | AE45: 23 | AF45: 18 | AG45: 20 | AH45: 13 | AI45: -3 | AJ45: 383.37953 | AK45: 57.730787 | AL45: 253 | AM45: 296 | AN45: 166 | AO45: 191 | AP45: 189 | AQ45: 43 | AR45: 705.39459 | AS45: 92.498096 | AT45: 19 | AU45: 57 | AV45: 5 | AW45: 23 | AX45: 21 | AY45: 38 | AZ45: - | BA45: 543.3582 | BB45: 46.638207 | BC45: 82 | BD45: 165 | BE45: 126 | BF45: 108 | BG45: 86 | BH45: 83 | BI45: 597.08943 | BJ45: 52.08106 | BK45: 294 | BL45: 329 | BM45: 285 | BN45: 204 | BO45: 168 | BP45: 35 | BQ45: 100.80891 | BR45: 48.809245 | BS45: 279 | BT45: 260 | BU45: 337 | BV45: 136 | BW45: 98 | BX45: -19 | BY45: 1369.4375 | BZ45: 87.912531 | CA45: 57 | CB45: 46 | CC45: 25 | CD45: 18 | CE45: 19 | CF45: -11 | CG45: 413.08216 | CH45: 91.950428 | CI45: 53 | CJ45: 48 | CK45: 76 | CL45: 86 | CM45: 71 | CN45: -5 | CO45: 416.02517 | CP45: 79.193507 | CQ45: 29 | CR45: 184 | CS45: 7 | CT45: 130 | CU45: 35 | CV45: 155 | CW45: 333.41393 | CX45: 84.463266 | CY45: 49 | CZ45: 52 | DA45: 13 | DB45: 16 | DC45: 15 | DD45: 3 | DE45: 249.19971 | DF45: 60.781623 | DG45: 160 | DH45: 283 | DI45: 45 | DJ45: 271 | DK45: 244 | DL45: 123 | DM45: 773.97076 | DN45: 67.539502 | DO45: 164 | DP45: 168 | DQ45: 158 | DR45: 115 | DS45: 91 | DT45: 4 | DU45: 354.92065 | DV45: 55.513125 | DW45: 224 | DX45: 136 | DY45: 181 | DZ45: 106 | EA45: 96 | EB45: -88 | EC45: 71.331393 | ED45: 43 | EE45: 101 | EF45: 25 | EG45: 62 | EH45: 56 | EI45: 58
A46: Hortolândia | B46: SP | C46: Sudeste | D46: 796.26508 | E46: 87.999208 | F46: 34 | G46: 32 | H46: 34 | I46: 16 | J46: 17 | K46: -2 | L46: 155.71933 | M46: 45.017554 | N46: 303 | O46: 156 | P46: 229 | Q46: 216 | R46: 216 | S46: -147 | T46: 1118.1446 | U46: 91.303478 | V46: 13 | W46: 24 | X46: 36 | Y46: 18 | Z46: 23 | AA46: 11 | AB46: 675.21914 | AC46: 71.592117 | AD46: 55 | AE46: 63 | AF46: 106 | AG46: 73 | AH46: 66 | AI46: 8 | AJ46: 414.6779 | AK46: 67.748538 | AL46: 103 | AM46: 80 | AN46: 52 | AO46: 25 | AP46: 11 | AQ46: -23 | AR46: 673.23332 | AS46: 86.630819 | AT46: 78 | AU46: 70 | AV46: 48 | AW46: 69 | AX46: 68 | AY46: -8 | AZ46: - | BA46: 579.7515 | BB46: 53.587425 | BC46: 43 | BD46: 110 | BE46: 102 | BF46: 62 | BG46: 51 | BH46: 67 | BI46: 679.88751 | BJ46: 69.824966 | BK46: 41 | BL46: 113 | BM46: 64 | BN46: 31 | BO46: 26 | BP46: 72 | BQ46: 138.18199 | BR46: 70.977177 | BS46: 44 | BT46: 107 | BU46: 9 | BV46: 5 | BW46: 26 | BX46: 63 | BY46: 1341.8335 | BZ46: 85.332801 | CA46: 87 | CB46: 80 | CC46: 70 | CD46: 86 | CE46: 104 | CF46: -7 | CG46: 416.23679 | CH46: 92.842427 | CI46: 46 | CJ46: 35 | CK46: 47 | CL46: 52 | CM46: 83 | CN46: -11 | CO46: 389.52519 | CP46: 68.173315 | CQ46: 239 | CR46: 163 | CS46: 186 | CT46: 225 | CU46: 41 | CV46: -76 | CW46: 340.27555 | CX46: 86.40763 | CY46: 20 | CZ46: 26 | DA46: 25 | DB46: 32 | DC46: 29 | DD46: 6 | DE46: 202.14095 | DF46: 35.051111 | DG46: 408 | DH46: 392 | DI46: 395 | DJ46: 398 | DK46: 396 | DL46: -16 | DM46: 780.07912 | DN46: 68.634256 | DO46: 154 | DP46: 147 | DQ46: 181 | DR46: 162 | DS46: 198 | DT46: -7 | DU46: 380.42658 | DV46: 59.910721 | DW46: 162 | DX46: 143 | DY46: 109 | DZ46: 111 | EA46: 191 | EB46: -19 | EC46: 71.314596 | ED46: 44 | EE46: 45 | EF46: 27 | EG46: 23 | EH46: 37 | EI46: 1
A47: São José dos Pinhais | B47: PR | C47: Sul | D47: 756.6077 | E47: 81.676693 | F47: 93 | G47: 106 | H47: 119 | I47: 101 | J47: 73 | K47: 13 | L47: 160.58899 | M47: 47.663538 | N47: 279 | O47: 320 | P47: 257 | Q47: 304 | R47: 252 | S47: 41 | T47: 1091.7714 | U47: 88.212406 | V47: 34 | W47: 70 | X47: 52 | Y47: 105 | Z47: 77 | AA47: 36 | AB47: 527.85948 | AC47: 49.870883 | AD47: 225 | AE47: 262 | AF47: 221 | AG47: 262 | AH47: 231 | AI47: 37 | AJ47: 411.49813 | AK47: 66.730781 | AL47: 114 | AM47: 207 | AN47: 118 | AO47: 121 | AP47: 75 | AQ47: 93 | AR47: 680.84244 | AS47: 88.018973 | AT47: 61 | AU47: 50 | AV47: 8 | AW47: 42 | AX47: 41 | AY47: -11 | AZ47: - | BA47: 571.078 | BB47: 51.931241 | BC47: 49 | BD47: 135 | BE47: 186 | BF47: 87 | BG47: 72 | BH47: 86 | BI47: 671.42548 | BJ47: 68.011524 | BK47: 56 | BL47: 108 | BM47: 133 | BN47: 23 | BO47: 30 | BP47: 52 | BQ47: 116.93035 | BR47: 58.371715 | BS47: 142 | BT47: 144 | BU47: 75 | BV47: 205 | BW47: 137 | BX47: 2 | BY47: 1378.9403 | BZ47: 88.800605 | CA47: 47 | CB47: 61 | CC47: 140 | CD47: 176 | CE47: 151 | CF47: 14 | CG47: 389.14966 | CH47: 85.183298 | CI47: 156 | CJ47: 179 | CK47: 30 | CL47: 109 | CM47: 75 | CN47: 23 | CO47: 393.22673 | CP47: 69.712624 | CQ47: 174 | CR47: 241 | CS47: 72 | CT47: 321 | CU47: 275 | CV47: 67 | CW47: 328.70255 | CX47: 83.128213 | CY47: 69 | CZ47: 82 | DA47: 57 | DB47: 131 | DC47: 121 | DD47: 13 | DE47: 266.05306 | DF47: 69.996596 | DG47: 83 | DH47: 93 | DI47: 51 | DJ47: 106 | DK47: 62 | DL47: 10 | DM47: 858.7895 | DN47: 82.740896 | DO47: 44 | DP47: 122 | DQ47: 249 | DR47: 253 | DS47: 188 | DT47: 78 | DU47: 385.55596 | DV47: 60.795102 | DW47: 152 | DX47: 108 | DY47: 310 | DZ47: 323 | EA47: 306 | EB47: -44 | EC47: 71.302818 | ED47: 45 | EE47: 112 | EF47: 80 | EG47: 135 | EH47: 99 | EI47: 67
A48: Criciúma | B48: SC | C48: Sul | D48: 740.71247 | E48: 79.14254 | F48: 119 | G48: 118 | H48: 158 | I48: 123 | J48: 190 | K48: -1 | L48: 183.06913 | M48: 59.878366 | N48: 111 | O48: 145 | P48: 182 | Q48: 284 | R48: 169 | S48: 34 | T48: 1007.0229 | U48: 78.279437 | V48: 127 | W48: 121 | X48: 136 | Y48: 150 | Z48: 140 | AA48: -6 | AB48: 700.73585 | AC48: 75.353352 | AD48: 31 | AE48: 28 | AF48: 24 | AG48: 15 | AH48: 26 | AI48: -3 | AJ48: 396.15315 | AK48: 61.81927 | AL48: 191 | AM48: 52 | AN48: 59 | AO48: 31 | AP48: 159 | AQ48: -139 | AR48: 602.7178 | AS48: 73.766459 | AT48: 207 | AU48: 249 | AV48: 214 | AW48: 310 | AX48: 249 | AY48: 42 | AZ48: - | BA48: 610.6715 | BB48: 59.49153 | BC48: 23 | BD48: 32 | BE48: 17 | BF48: 19 | BG48: 29 | BH48: 9 | BI48: 673.85745 | BJ48: 68.532703 | BK48: 49 | BL48: 21 | BM48: 24 | BN48: 24 | BO48: 71 | BP48: -28 | BQ48: 118.40487 | BR48: 59.246332 | BS48: 132 | BT48: 96 | BU48: 74 | BV48: 46 | BW48: 60 | BX48: -36 | BY48: 1369.7117 | BZ48: 87.938153 | CA48: 56 | CB48: 68 | CC48: 63 | CD48: 148 | CE48: 146 | CF48: 12 | CG48: 385.20503 | CH48: 84.06792 | CI48: 181 | CJ48: 210 | CK48: 124 | CL48: 252 | CM48: 186 | CN48: 29 | CO48: 397.27902 | CP48: 71.397794 | CQ48: 127 | CR48: 85 | CS48: 122 | CT48: 274 | CU48: 174 | CV48: -42 | CW48: 306.02281 | CX48: 76.701502 | CY48: 170 | CZ48: 209 | DA48: 132 | DB48: 253 | DC48: 226 | DD48: 39 | DE48: 234.42835 | DF48: 52.705024 | DG48: 243 | DH48: 214 | DI48: 232 | DJ48: 304 | DK48: 230 | DL48: -29 | DM48: 867.66282 | DN48: 84.331192 | DO48: 37 | DP48: 38 | DQ48: 23 | DR48: 60 | DS48: 68 | DT48: 1 | DU48: 424.34426 | DV48: 67.482773 | DW48: 69 | DX48: 61 | DY48: 56 | DZ48: 104 | EA48: 65 | EB48: -8 | EC48: 71.258397 | ED48: 46 | EE48: 51 | EF48: 40 | EG48: 88 | EH48: 104 | EI48: 5
A49: João Monlevade | B49: MG | C49: Sudeste | D49: 807.49362 | E49: 89.789357 | F49: 25 | G49: 107 | K49: Novo município | L49: 176.1215 | M49: 56.103299 | N49: 170 | O49: 312 | S49: Novo município | T49: 977.48146 | U49: 74.817031 | V49: 153 | W49: 157 | AA49: Novo município | AB49: 553.81451 | AC49: 53.696729 | AD49: 199 | AE49: 158 | AI49: Novo município | AJ49: 458.79711 | AK49: 81.869887 | AL49: 9 | AM49: 18 | AQ49: Novo município | AR49: 691.66748 | AS49: 89.993817 | AT49: 39 | AU49: 168 | AY49: Novo município | AZ49: - | BA49: 522.66407 | BB49: 42.686709 | BC49: 121 | BD49: 153 | BH49: Novo município | BI49: 655.39564 | BJ49: 64.576276 | BK49: 96 | BL49: 65 | BP49: Novo município | BQ49: 115.28677 | BR49: 57.396826 | BS49: 153 | BT49: 157 | BX49: Novo município | BY49: 1349.4877 | BZ49: 86.048126 | CA49: 73 | CB49: 115 | CF49: Novo município | CG49: 399.74105 | CH49: 88.178111 | CI49: 108 | CJ49: 154 | CN49: Novo município | CO49: 417.30911 | CP49: 79.727442 | CQ49: 26 | CR49: 248 | CV49: Novo município | CW49: 287.10264 | CX49: 71.340132 | CY49: 273 | CZ49: 349 | DD49: Novo município | DE49: 281.47981 | DF49: 78.431542 | DG49: 35 | DH49: 89 | DL49: Novo município | DM49: 745.61807 | DN49: 62.458073 | DO49: 219 | DP49: 136 | DT49: Novo município | DU49: 392.03523 | DV49: 61.912223 | DW49: 131 | DX49: 125 | EB49: Novo município | EC49: 71.189099 | ED49: 47 | EE49: 141 | EI49: Novo município
